{"text_format":"1","workbook":"xlsx","n_sheets":4,"sheets":["提出用","提出用写","入力用","提出用控"],"not_rendered":{"charts":0,"images":2,"macros":1,"external_links":0,"defined_names":4,"comments":0,"pivot_tables":0},"unopened":[],"bounds":{"document_bytes":16777216,"sheet_cells":100000,"rows_first":2000,"rows_last":500,"rows_between":2000,"halvings":0,"cell_chars":16384,"cell_head_chars":4096},"cells_cut":0,"cells_raw":0,"read":"whole","date_system":"1900"}

{"sheet":"提出用","index":0,"n_rows":18,"n_cols":73,"rows_kept":18,"cut":false,"hidden":false,"merged":[[60,1,61,16],[60,29,60,80],[62,1,63,16],[62,29,62,80],[64,1,65,16],[64,29,64,80],[66,1,67,16],[66,29,66,80],[60,17,61,28],[62,17,63,28],[64,17,65,28],[66,17,67,28],[50,1,51,16],[50,29,50,80],[52,1,53,16],[52,29,52,80],[54,1,55,16],[54,29,54,80],[56,1,57,16],[56,29,56,80],[58,1,59,16],[58,29,58,80],[50,17,51,28],[52,17,53,28],[54,17,55,28],[56,17,57,28],[58,17,59,28],[40,1,41,16],[40,29,40,80],[42,1,43,16],[42,29,42,80],[44,1,45,16],[44,29,44,80],[46,1,47,16],[46,29,46,80],[48,1,49,16],[48,29,48,80],[40,17,41,28],[42,17,43,28],[44,17,45,28],[46,17,47,28],[48,17,49,28],[36,1,37,16],[36,29,36,80],[38,1,39,16],[38,29,38,80],[36,17,37,28],[38,17,39,28],[24,29,24,80],[26,29,26,80],[28,29,28,80],[24,1,25,16],[26,1,27,16],[28,1,29,16],[24,17,25,28],[26,17,27,28],[28,17,29,28],[30,17,31,28],[32,17,33,28],[34,17,35,28],[30,1,31,16],[30,29,30,80],[32,1,33,16],[32,29,32,80],[34,1,35,16],[34,29,34,80],[20,29,20,80],[22,29,22,80],[12,18,14,19],[11,67,13,80],[11,59,12,66],[19,17,21,28],[22,17,23,28],[20,1,21,16],[19,1,19,16],[17,17,18,80],[17,1,18,16],[22,1,23,16],[14,67,16,80],[12,15,14,17],[12,20,14,22],[12,12,14,14],[12,23,14,25],[8,69,9,74],[8,75,9,80],[5,36,5,38],[5,39,5,41],[5,42,5,44],[5,45,5,47],[5,48,5,50],[5,51,5,53],[14,59,15,66],[3,1,3,14],[4,1,6,26],[7,1,8,26],[9,1,9,26],[2,33,3,62],[2,63,3,71],[2,72,3,80],[4,63,4,66],[4,67,4,71],[4,72,4,76],[4,77,4,80],[4,33,4,62],[5,54,5,56],[5,57,5,59],[5,60,5,62],[6,33,7,44],[6,45,7,80],[2,27,10,32],[8,33,9,38],[8,39,9,44],[8,45,9,50],[8,51,9,56],[8,57,9,62],[8,63,9,68]]}
[]
[]
[null,null,null,null,null,null,null,null,null,null,null,null,null,null,null,null,null,null,null,null,null,null,null,null,null,null,null,"※処理事項",null,null,null,null,null,"事業者コード",null,null,null,null,null,null,null,null,null,null,null,null,null,null,null,null,null,null,null,null,null,null,null,null,null,null,null,null,null,"処理\n区分",null,null,null,null,null,null,null,null,"申告\n区分"]
[null,"　申告者の氏名又は名称"]
[]
[]
[null,null,null,null,null,null,null,null,null,null,null,null,null,null,null,null,null,null,null,null,null,null,null,null,null,null,null,null,null,null,null,null,null,"予備",null,null,null,null,null,null,null,null,null,null,null,"申 告 年 月 日"]
[null,"　個人番号又は法人番号\n　　　　　↓個人番号の記載に当たっては、左端を空欄とし、ここから記載してください。"]
[null,null,null,null,null,null,null,null,null,null,null,null,null,null,null,null,null,null,null,null,null,null,null,null,null,null,null,null,null,null,null,null,null,1,null,null,null,null,null,3]
[]
[]
[null,null,null,null,null,null,null,null,null,null,null,null,null,null,null,null,null,null,null,null,null,null,null,null,null,null,null,null,null,null,null,null,null,null,null,null,null,null,null,null,null,null,null,null,null,null,null,null,null,null,null,null,null,null,null,null,null,null,null,null,null,null,null,null,null,null,null,"枚のうち"]
[null,null,null,null,null,null,null,null,null,null,null,null,"令和",null,null,null,null,null,"年",null,null,null,null,"月分"]
[]
[null,null,null,null,null,null,null,null,null,null,null,null,null,null,null,null,null,null,null,null,null,null,null,null,null,null,null,null,null,null,null,null,null,null,null,null,null,null,null,null,null,null,null,null,null,null,null,null,null,null,null,null,null,null,null,null,null,null,null,null,null,null,null,null,null,null,null,"枚目"]
[]
[]
[null,"品目",null,null,null,null,null,null,null,null,null,null,null,null,null,null,null,"売渡し又は消費等の数量"]

{"sheet":"提出用写","index":1,"n_rows":67,"n_cols":73,"rows_kept":67,"cut":false,"hidden":true,"merged":[[58,21,59,28],[60,21,61,28],[36,21,37,28],[38,21,39,28],[40,21,41,28],[42,21,43,28],[44,21,45,28],[46,21,47,28],[34,1,35,16],[64,17,64,20],[66,17,66,20],[11,59,12,66],[62,21,63,28],[52,1,53,16],[52,29,52,80],[54,1,55,16],[54,29,54,80],[56,1,57,16],[56,29,56,80],[52,17,52,20],[54,17,54,20],[56,17,56,20],[46,1,47,16],[46,29,46,80],[48,1,49,16],[48,29,48,80],[50,1,51,16],[17,1,18,16],[20,1,21,16],[19,1,19,16],[52,21,53,28],[54,21,55,28],[56,21,57,28],[64,1,65,16],[64,29,64,80],[66,1,67,16],[66,29,66,80],[17,21,18,80],[17,17,18,20],[22,17,22,20],[20,17,20,20],[19,17,19,20],[58,1,59,16],[58,29,58,80],[60,1,61,16],[60,29,60,80],[62,1,63,16],[62,29,62,80],[58,17,58,20],[60,17,60,20],[62,17,62,20],[64,21,65,28],[66,21,67,28],[19,21,21,28],[22,21,23,28],[24,21,25,28],[26,21,27,28],[50,29,50,80],[46,17,46,20],[48,17,48,20],[50,17,50,20],[48,21,49,28],[40,1,41,16],[40,29,40,80],[42,1,43,16],[42,29,42,80],[44,1,45,16],[44,29,44,80],[40,17,40,20],[42,17,42,20],[44,17,44,20],[50,21,51,28],[34,29,34,80],[36,1,37,16],[36,29,36,80],[38,1,39,16],[38,29,38,80],[34,17,34,20],[36,17,36,20],[38,17,38,20],[34,21,35,28],[28,29,28,80],[30,1,31,16],[30,29,30,80],[32,1,33,16],[32,29,32,80],[28,17,28,20],[30,17,30,20],[32,17,32,20],[22,1,23,16],[22,29,22,80],[24,1,25,16],[24,29,24,80],[26,1,27,16],[26,29,26,80],[24,17,24,20],[26,17,26,20],[28,21,29,28],[30,21,31,28],[32,21,33,28],[28,1,29,16],[20,29,20,80],[8,69,9,74],[8,75,9,80],[12,18,14,19],[5,57,5,59],[5,60,5,62],[6,33,7,44],[6,45,7,80],[8,33,9,38],[8,39,9,44],[8,45,9,50],[8,51,9,56],[8,57,9,62],[8,63,9,68],[2,27,10,32],[2,33,3,62],[2,63,3,71],[2,72,3,80],[11,67,13,80],[14,59,15,66],[4,72,4,76],[14,67,16,80],[3,1,3,14],[7,1,8,26],[9,1,9,26],[12,15,14,17],[12,20,14,22],[12,12,14,14],[12,23,14,25],[4,1,6,26],[4,77,4,80],[5,36,5,38],[5,39,5,41],[5,42,5,44],[5,45,5,47],[5,48,5,50],[5,51,5,53],[5,54,5,56],[4,63,4,66],[4,67,4,71],[4,33,4,62]]}
[]
[]
[null,null,null,null,null,null,null,null,null,null,null,null,null,null,null,null,null,null,null,null,null,null,null,null,null,null,null,"※処理事項",null,null,null,null,null,"事業者コード",null,null,null,null,null,null,null,null,null,null,null,null,null,null,null,null,null,null,null,null,null,null,null,null,null,null,null,null,null,"処理\n区分",null,null,null,null,null,null,null,null,"申告\n区分"]
[null,"　申告者の氏名又は名称"]
[null,{"$f":"IF(提出用!B5=\"\",\"\",提出用!B5)","v":""},null,null,null,null,null,null,null,null,null,null,null,null,null,null,null,null,null,null,null,null,null,null,null,null,null,null,null,null,null,null,null,{"$f":"IF(提出用!AH5=\"\",\"\",提出用!AH5)","v":""}]
[]
[null,null,null,null,null,null,null,null,null,null,null,null,null,null,null,null,null,null,null,null,null,null,null,null,null,null,null,null,null,null,null,null,null,"予備",null,null,null,null,null,null,null,null,null,null,null,"申 告 年 月 日"]
[null,"　個人番号又は法人番号\n　　　　　↓個人番号の記載に当たっては、左端を空欄とし、ここから記載してください。"]
[null,null,null,null,null,null,null,null,null,null,null,null,null,null,null,null,null,null,null,null,null,null,null,null,null,null,null,null,null,null,null,null,null,1,null,null,null,null,null,3]
[null,{"$f":"IF(提出用!B10=\"\",\"\",提出用!B10)","v":""}]
[]
[null,null,null,null,null,null,null,null,null,null,null,null,null,null,null,null,null,null,null,null,null,null,null,null,null,null,null,null,null,null,null,null,null,null,null,null,null,null,null,null,null,null,null,null,null,null,null,null,null,null,null,null,null,null,null,null,null,null,null,{"$f":"IF(提出用!BH12=\"\",\"\",提出用!BH12)","v":""},null,null,null,null,null,null,null,"枚のうち"]
[null,null,null,null,null,null,null,null,null,null,null,null,"令和",null,null,{"$f":"IF(提出用!P13=\"\",\"\",提出用!P13)","v":""},null,null,"年",null,{"$f":"IF(提出用!U13=\"\",\"\",提出用!U13)","v":""},null,null,"月分"]
[]
[null,null,null,null,null,null,null,null,null,null,null,null,null,null,null,null,null,null,null,null,null,null,null,null,null,null,null,null,null,null,null,null,null,null,null,null,null,null,null,null,null,null,null,null,null,null,null,null,null,null,null,null,null,null,null,null,null,null,null,{"$f":"IF(提出用!BH15=\"\",\"\",提出用!BH15)","v":""},null,null,null,null,null,null,null,"枚目"]
[]
[]
[null,"品目",null,null,null,null,null,null,null,null,null,null,null,null,null,null,null,"品目コード",null,null,null,"売渡し又は消費等の数量"]
[]
[]
[null,{"$f":"IF(提出用!B21=\"\",\"\",提出用!B21)","v":""},null,null,null,null,null,null,null,null,null,null,null,null,null,null,null,null,null,null,null,null,null,null,null,null,null,null,null,{"$f":"IF(提出用!AD21=\"\",\"\",提出用!AD21)","v":""}]
[]
[null,{"$f":"IF(提出用!B23=\"\",\"\",提出用!B23)","v":""},null,null,null,null,null,null,null,null,null,null,null,null,null,null,null,null,null,null,null,null,null,null,null,null,null,null,null,{"$f":"IF(提出用!AD23=\"\",\"\",提出用!AD23)","v":""}]
[]
[null,{"$f":"IF(提出用!B25=\"\",\"\",提出用!B25)","v":""},null,null,null,null,null,null,null,null,null,null,null,null,null,null,null,null,null,null,null,null,null,null,null,null,null,null,null,{"$f":"IF(提出用!AD25=\"\",\"\",提出用!AD25)","v":""}]
[]
[null,{"$f":"IF(提出用!B27=\"\",\"\",提出用!B27)","v":""},null,null,null,null,null,null,null,null,null,null,null,null,null,null,null,null,null,null,null,null,null,null,null,null,null,null,null,{"$f":"IF(提出用!AD27=\"\",\"\",提出用!AD27)","v":""}]
[]
[null,{"$f":"IF(提出用!B29=\"\",\"\",提出用!B29)","v":""},null,null,null,null,null,null,null,null,null,null,null,null,null,null,null,null,null,null,null,null,null,null,null,null,null,null,null,{"$f":"IF(提出用!AD29=\"\",\"\",提出用!AD29)","v":""}]
[]
[null,{"$f":"IF(提出用!B31=\"\",\"\",提出用!B31)","v":""},null,null,null,null,null,null,null,null,null,null,null,null,null,null,null,null,null,null,null,null,null,null,null,null,null,null,null,{"$f":"IF(提出用!AD31=\"\",\"\",提出用!AD31)","v":""}]
[]
[null,{"$f":"IF(提出用!B33=\"\",\"\",提出用!B33)","v":""},null,null,null,null,null,null,null,null,null,null,null,null,null,null,null,null,null,null,null,null,null,null,null,null,null,null,null,{"$f":"IF(提出用!AD33=\"\",\"\",提出用!AD33)","v":""}]
[]
[null,{"$f":"IF(提出用!B35=\"\",\"\",提出用!B35)","v":""},null,null,null,null,null,null,null,null,null,null,null,null,null,null,null,null,null,null,null,null,null,null,null,null,null,null,null,{"$f":"IF(提出用!AD35=\"\",\"\",提出用!AD35)","v":""}]
[]
[null,{"$f":"IF(提出用!B37=\"\",\"\",提出用!B37)","v":""},null,null,null,null,null,null,null,null,null,null,null,null,null,null,null,null,null,null,null,null,null,null,null,null,null,null,null,{"$f":"IF(提出用!AD37=\"\",\"\",提出用!AD37)","v":""}]
[]
[null,{"$f":"IF(提出用!B39=\"\",\"\",提出用!B39)","v":""},null,null,null,null,null,null,null,null,null,null,null,null,null,null,null,null,null,null,null,null,null,null,null,null,null,null,null,{"$f":"IF(提出用!AD39=\"\",\"\",提出用!AD39)","v":""}]
[]
[null,{"$f":"IF(提出用!B41=\"\",\"\",提出用!B41)","v":""},null,null,null,null,null,null,null,null,null,null,null,null,null,null,null,null,null,null,null,null,null,null,null,null,null,null,null,{"$f":"IF(提出用!AD41=\"\",\"\",提出用!AD41)","v":""}]
[]
[null,{"$f":"IF(提出用!B43=\"\",\"\",提出用!B43)","v":""},null,null,null,null,null,null,null,null,null,null,null,null,null,null,null,null,null,null,null,null,null,null,null,null,null,null,null,{"$f":"IF(提出用!AD43=\"\",\"\",提出用!AD43)","v":""}]
[]
[null,{"$f":"IF(提出用!B45=\"\",\"\",提出用!B45)","v":""},null,null,null,null,null,null,null,null,null,null,null,null,null,null,null,null,null,null,null,null,null,null,null,null,null,null,null,{"$f":"IF(提出用!AD45=\"\",\"\",提出用!AD45)","v":""}]
[]
[null,{"$f":"IF(提出用!B47=\"\",\"\",提出用!B47)","v":""},null,null,null,null,null,null,null,null,null,null,null,null,null,null,null,null,null,null,null,null,null,null,null,null,null,null,null,{"$f":"IF(提出用!AD47=\"\",\"\",提出用!AD47)","v":""}]
[]
[null,{"$f":"IF(提出用!B49=\"\",\"\",提出用!B49)","v":""},null,null,null,null,null,null,null,null,null,null,null,null,null,null,null,null,null,null,null,null,null,null,null,null,null,null,null,{"$f":"IF(提出用!AD49=\"\",\"\",提出用!AD49)","v":""}]
[]
[null,{"$f":"IF(提出用!B51=\"\",\"\",提出用!B51)","v":""},null,null,null,null,null,null,null,null,null,null,null,null,null,null,null,null,null,null,null,null,null,null,null,null,null,null,null,{"$f":"IF(提出用!AD51=\"\",\"\",提出用!AD51)","v":""}]
[]
[null,{"$f":"IF(提出用!B53=\"\",\"\",提出用!B53)","v":""},null,null,null,null,null,null,null,null,null,null,null,null,null,null,null,null,null,null,null,null,null,null,null,null,null,null,null,{"$f":"IF(提出用!AD53=\"\",\"\",提出用!AD53)","v":""}]
[]
[null,{"$f":"IF(提出用!B55=\"\",\"\",提出用!B55)","v":""},null,null,null,null,null,null,null,null,null,null,null,null,null,null,null,null,null,null,null,null,null,null,null,null,null,null,null,{"$f":"IF(提出用!AD55=\"\",\"\",提出用!AD55)","v":""}]
[]
[null,{"$f":"IF(提出用!B57=\"\",\"\",提出用!B57)","v":""},null,null,null,null,null,null,null,null,null,null,null,null,null,null,null,null,null,null,null,null,null,null,null,null,null,null,null,{"$f":"IF(提出用!AD57=\"\",\"\",提出用!AD57)","v":""}]
[]
[null,{"$f":"IF(提出用!B59=\"\",\"\",提出用!B59)","v":""},null,null,null,null,null,null,null,null,null,null,null,null,null,null,null,null,null,null,null,null,null,null,null,null,null,null,null,{"$f":"IF(提出用!AD59=\"\",\"\",提出用!AD59)","v":""}]
[]
[null,{"$f":"IF(提出用!B61=\"\",\"\",提出用!B61)","v":""},null,null,null,null,null,null,null,null,null,null,null,null,null,null,null,null,null,null,null,null,null,null,null,null,null,null,null,{"$f":"IF(提出用!AD61=\"\",\"\",提出用!AD61)","v":""}]
[]
[null,{"$f":"IF(提出用!B63=\"\",\"\",提出用!B63)","v":""},null,null,null,null,null,null,null,null,null,null,null,null,null,null,null,null,null,null,null,null,null,null,null,null,null,null,null,{"$f":"IF(提出用!AD63=\"\",\"\",提出用!AD63)","v":""}]
[]
[null,{"$f":"IF(提出用!B65=\"\",\"\",提出用!B65)","v":""},null,null,null,null,null,null,null,null,null,null,null,null,null,null,null,null,null,null,null,null,null,null,null,null,null,null,null,{"$f":"IF(提出用!AD65=\"\",\"\",提出用!AD65)","v":""}]
[]
[null,{"$f":"IF(提出用!B67=\"\",\"\",提出用!B67)","v":""},null,null,null,null,null,null,null,null,null,null,null,null,null,null,null,null,null,null,null,null,null,null,null,null,null,null,null,{"$f":"IF(提出用!AD67=\"\",\"\",提出用!AD67)","v":""}]

{"sheet":"入力用","index":2,"n_rows":67,"n_cols":73,"rows_kept":67,"cut":false,"hidden":false,"merged":[[66,1,67,2],[17,1,18,2],[19,1,19,2],[20,3,21,16],[20,21,21,28],[66,17,66,20],[66,29,66,80],[8,27,10,32],[20,1,21,2],[22,1,23,2],[24,1,25,2],[26,1,27,2],[28,1,29,2],[62,17,62,20],[62,29,62,80],[64,17,64,20],[64,29,64,80],[62,1,63,2],[64,1,65,2],[58,17,58,20],[58,29,58,80],[60,17,60,20],[60,29,60,80],[58,1,59,2],[60,1,61,2],[54,17,54,20],[54,29,54,80],[56,17,56,20],[56,29,56,80],[54,1,55,2],[56,1,57,2],[50,17,50,20],[50,29,50,80],[52,17,52,20],[52,29,52,80],[50,1,51,2],[52,1,53,2],[46,17,46,20],[46,29,46,80],[48,17,48,20],[48,29,48,80],[46,1,47,2],[48,1,49,2],[42,17,42,20],[42,29,42,80],[44,17,44,20],[44,29,44,80],[42,1,43,2],[44,1,45,2],[38,17,38,20],[38,29,38,80],[40,17,40,20],[40,29,40,80],[38,1,39,2],[40,1,41,2],[34,17,34,20],[34,29,34,80],[36,17,36,20],[36,29,36,80],[34,1,35,2],[36,1,37,2],[30,17,30,20],[30,29,30,80],[32,17,32,20],[32,29,32,80],[30,1,31,2],[32,1,33,2],[26,17,26,20],[26,29,26,80],[28,17,28,20],[28,29,28,80],[5,51,5,53],[5,54,5,56],[22,17,22,20],[22,29,22,80],[24,17,24,20],[24,29,24,80],[14,59,15,66],[19,17,19,20],[20,17,20,20],[20,29,20,80],[17,59,17,66],[12,15,14,17],[11,59,12,66],[12,18,14,19],[7,15,11,20],[11,23,14,58],[12,20,14,22],[2,33,3,62],[2,63,3,71],[2,72,3,80],[4,72,4,76],[4,77,4,80],[4,63,4,66],[4,67,4,71],[4,33,4,62],[8,63,9,68],[8,69,9,74],[8,75,9,80],[5,57,5,59],[5,60,5,62],[8,33,9,38],[8,39,9,44],[8,45,9,50],[8,51,9,56],[8,57,9,62],[6,21,6,80],[5,36,5,38],[5,39,5,41],[5,42,5,44],[5,45,5,47],[5,48,5,50]]}
[]
[]
[null,null,null,null,null,null,null,null,null,null,null,null,null,null,null,null,null,null,null,null,null,null,null,null,null,null,null,null,null,null,null,null,null,"事業者コード",null,null,null,null,null,null,null,null,null,null,null,null,null,null,null,null,null,null,null,null,null,null,null,null,null,null,null,null,null,"処理\n区分",null,null,null,null,null,null,null,null,"申告\n区分"]
[]
[null,null,null,null,null,null,null,null,null,null,null,null,null,null,null,null,null,null,null,null,null,null,null,null,null,null,null,null,null,null,null,null,null,{"$f":"IF(提出用!AH5=\"\",\"\",提出用!AH5)","v":""}]
[]
[]
[]
[null,null,null,null,null,null,null,null,null,null,null,null,null,null,null,null,null,null,null,null,null,null,null,null,null,null,null,"ウ",null,null,null,null,null,1,null,null,null,null,null,3]
[]
[]
[null,null,null,null,null,null,null,null,null,null,null,null,null,null,null,null,null,null,null,null,null,null,null,null,null,null,null,null,null,null,null,null,null,null,null,null,null,null,null,null,null,null,null,null,null,null,null,null,null,null,null,null,null,null,null,null,null,null,null,{"$f":"IF(提出用!BH12=\"\",\"\",提出用!BH12)","v":""}]
[null,null,null,null,null,null,null,null,null,null,null,null,null,null,null,{"$f":"IF(提出用!P13=\"\",\"\",提出用!P13)","v":""},null,null,null,null,{"$f":"IF(提出用!U13=\"\",\"\",提出用!U13)","v":""}]
[]
[null,null,null,null,null,null,null,null,null,null,null,null,null,null,null,null,null,null,null,null,null,null,null,null,null,null,null,null,null,null,null,null,null,null,null,null,null,null,null,null,null,null,null,null,null,null,null,null,null,null,null,null,null,null,null,null,null,null,null,{"$f":"IF(提出用!BH15=\"\",\"\",提出用!BH15)","v":""}]
[]
[]
[null,"エ"]
[]
[]
[null,"01",null,null,null,null,null,null,null,null,null,null,null,null,null,null,null,{"$f":"IF(提出用写!R21=\"\",\"\",提出用写!R21)","v":""},null,null,null,null,null,null,null,null,null,null,null,{"$f":"IF(提出用!AD21=\"\",\"\",提出用!AD21)","v":""}]
[]
[null,"02",null,null,null,null,null,null,null,null,null,null,null,null,null,null,null,{"$f":"IF(提出用写!R23=\"\",\"\",提出用写!R23)","v":""},null,null,null,null,null,null,null,null,null,null,null,{"$f":"IF(提出用!AD23=\"\",\"\",提出用!AD23)","v":""}]
[]
[null,"03",null,null,null,null,null,null,null,null,null,null,null,null,null,null,null,{"$f":"IF(提出用写!R25=\"\",\"\",提出用写!R25)","v":""},null,null,null,null,null,null,null,null,null,null,null,{"$f":"IF(提出用!AD25=\"\",\"\",提出用!AD25)","v":""}]
[]
[null,"04",null,null,null,null,null,null,null,null,null,null,null,null,null,null,null,{"$f":"IF(提出用写!R27=\"\",\"\",提出用写!R27)","v":""},null,null,null,null,null,null,null,null,null,null,null,{"$f":"IF(提出用!AD27=\"\",\"\",提出用!AD27)","v":""}]
[]
[null,"05",null,null,null,null,null,null,null,null,null,null,null,null,null,null,null,{"$f":"IF(提出用写!R29=\"\",\"\",提出用写!R29)","v":""},null,null,null,null,null,null,null,null,null,null,null,{"$f":"IF(提出用!AD29=\"\",\"\",提出用!AD29)","v":""}]
[]
[null,"06",null,null,null,null,null,null,null,null,null,null,null,null,null,null,null,{"$f":"IF(提出用写!R31=\"\",\"\",提出用写!R31)","v":""},null,null,null,null,null,null,null,null,null,null,null,{"$f":"IF(提出用!AD31=\"\",\"\",提出用!AD31)","v":""}]
[]
[null,"07",null,null,null,null,null,null,null,null,null,null,null,null,null,null,null,{"$f":"IF(提出用写!R33=\"\",\"\",提出用写!R33)","v":""},null,null,null,null,null,null,null,null,null,null,null,{"$f":"IF(提出用!AD33=\"\",\"\",提出用!AD33)","v":""}]
[]
[null,"08",null,null,null,null,null,null,null,null,null,null,null,null,null,null,null,{"$f":"IF(提出用写!R35=\"\",\"\",提出用写!R35)","v":""},null,null,null,null,null,null,null,null,null,null,null,{"$f":"IF(提出用!AD35=\"\",\"\",提出用!AD35)","v":""}]
[]
[null,"09",null,null,null,null,null,null,null,null,null,null,null,null,null,null,null,{"$f":"IF(提出用写!R37=\"\",\"\",提出用写!R37)","v":""},null,null,null,null,null,null,null,null,null,null,null,{"$f":"IF(提出用!AD37=\"\",\"\",提出用!AD37)","v":""}]
[]
[null,"10",null,null,null,null,null,null,null,null,null,null,null,null,null,null,null,{"$f":"IF(提出用写!R39=\"\",\"\",提出用写!R39)","v":""},null,null,null,null,null,null,null,null,null,null,null,{"$f":"IF(提出用!AD39=\"\",\"\",提出用!AD39)","v":""}]
[]
[null,"11",null,null,null,null,null,null,null,null,null,null,null,null,null,null,null,{"$f":"IF(提出用写!R41=\"\",\"\",提出用写!R41)","v":""},null,null,null,null,null,null,null,null,null,null,null,{"$f":"IF(提出用!AD41=\"\",\"\",提出用!AD41)","v":""}]
[]
[null,"12",null,null,null,null,null,null,null,null,null,null,null,null,null,null,null,{"$f":"IF(提出用写!R43=\"\",\"\",提出用写!R43)","v":""},null,null,null,null,null,null,null,null,null,null,null,{"$f":"IF(提出用!AD43=\"\",\"\",提出用!AD43)","v":""}]
[]
[null,"13",null,null,null,null,null,null,null,null,null,null,null,null,null,null,null,{"$f":"IF(提出用写!R45=\"\",\"\",提出用写!R45)","v":""},null,null,null,null,null,null,null,null,null,null,null,{"$f":"IF(提出用!AD45=\"\",\"\",提出用!AD45)","v":""}]
[]
[null,"14",null,null,null,null,null,null,null,null,null,null,null,null,null,null,null,{"$f":"IF(提出用写!R47=\"\",\"\",提出用写!R47)","v":""},null,null,null,null,null,null,null,null,null,null,null,{"$f":"IF(提出用!AD47=\"\",\"\",提出用!AD47)","v":""}]
[]
[null,"15",null,null,null,null,null,null,null,null,null,null,null,null,null,null,null,{"$f":"IF(提出用写!R49=\"\",\"\",提出用写!R49)","v":""},null,null,null,null,null,null,null,null,null,null,null,{"$f":"IF(提出用!AD49=\"\",\"\",提出用!AD49)","v":""}]
[]
[null,"16",null,null,null,null,null,null,null,null,null,null,null,null,null,null,null,{"$f":"IF(提出用写!R51=\"\",\"\",提出用写!R51)","v":""},null,null,null,null,null,null,null,null,null,null,null,{"$f":"IF(提出用!AD51=\"\",\"\",提出用!AD51)","v":""}]
[]
[null,"17",null,null,null,null,null,null,null,null,null,null,null,null,null,null,null,{"$f":"IF(提出用写!R53=\"\",\"\",提出用写!R53)","v":""},null,null,null,null,null,null,null,null,null,null,null,{"$f":"IF(提出用!AD53=\"\",\"\",提出用!AD53)","v":""}]
[]
[null,"18",null,null,null,null,null,null,null,null,null,null,null,null,null,null,null,{"$f":"IF(提出用写!R55=\"\",\"\",提出用写!R55)","v":""},null,null,null,null,null,null,null,null,null,null,null,{"$f":"IF(提出用!AD55=\"\",\"\",提出用!AD55)","v":""}]
[]
[null,"19",null,null,null,null,null,null,null,null,null,null,null,null,null,null,null,{"$f":"IF(提出用写!R57=\"\",\"\",提出用写!R57)","v":""},null,null,null,null,null,null,null,null,null,null,null,{"$f":"IF(提出用!AD57=\"\",\"\",提出用!AD57)","v":""}]
[]
[null,"20",null,null,null,null,null,null,null,null,null,null,null,null,null,null,null,{"$f":"IF(提出用写!R59=\"\",\"\",提出用写!R59)","v":""},null,null,null,null,null,null,null,null,null,null,null,{"$f":"IF(提出用!AD59=\"\",\"\",提出用!AD59)","v":""}]
[]
[null,"21",null,null,null,null,null,null,null,null,null,null,null,null,null,null,null,{"$f":"IF(提出用写!R61=\"\",\"\",提出用写!R61)","v":""},null,null,null,null,null,null,null,null,null,null,null,{"$f":"IF(提出用!AD61=\"\",\"\",提出用!AD61)","v":""}]
[]
[null,"22",null,null,null,null,null,null,null,null,null,null,null,null,null,null,null,{"$f":"IF(提出用写!R63=\"\",\"\",提出用写!R63)","v":""},null,null,null,null,null,null,null,null,null,null,null,{"$f":"IF(提出用!AD63=\"\",\"\",提出用!AD63)","v":""}]
[]
[null,"23",null,null,null,null,null,null,null,null,null,null,null,null,null,null,null,{"$f":"IF(提出用写!R65=\"\",\"\",提出用写!R65)","v":""},null,null,null,null,null,null,null,null,null,null,null,{"$f":"IF(提出用!AD65=\"\",\"\",提出用!AD65)","v":""}]
[]
[null,"24",null,null,null,null,null,null,null,null,null,null,null,null,null,null,null,{"$f":"IF(提出用写!R67=\"\",\"\",提出用写!R67)","v":""},null,null,null,null,null,null,null,null,null,null,null,{"$f":"IF(提出用!AD67=\"\",\"\",提出用!AD67)","v":""}]

{"sheet":"提出用控","index":3,"n_rows":67,"n_cols":73,"rows_kept":67,"cut":false,"hidden":false,"merged":[[66,1,67,16],[66,29,66,80],[62,1,63,16],[62,29,62,80],[64,1,65,16],[64,29,64,80],[62,17,63,28],[64,17,65,28],[66,17,67,28],[58,1,59,16],[58,29,58,80],[60,1,61,16],[60,29,60,80],[54,1,55,16],[54,29,54,80],[56,1,57,16],[56,29,56,80],[54,17,55,28],[56,17,57,28],[58,17,59,28],[60,17,61,28],[50,1,51,16],[50,29,50,80],[52,1,53,16],[52,29,52,80],[46,1,47,16],[46,29,46,80],[48,1,49,16],[48,29,48,80],[46,17,47,28],[48,17,49,28],[50,17,51,28],[52,17,53,28],[42,1,43,16],[42,29,42,80],[44,1,45,16],[44,29,44,80],[38,1,39,16],[38,29,38,80],[40,1,41,16],[40,29,40,80],[38,17,39,28],[40,17,41,28],[42,17,43,28],[44,17,45,28],[36,1,37,16],[36,29,36,80],[30,1,31,16],[30,29,30,80],[32,1,33,16],[32,29,32,80],[32,17,33,28],[34,17,35,28],[36,17,37,28],[30,17,31,28],[19,1,19,16],[17,17,18,80],[19,17,21,28],[22,17,23,28],[24,17,25,28],[26,17,27,28],[28,17,29,28],[34,1,35,16],[34,29,34,80],[20,29,20,80],[26,1,27,16],[26,29,26,80],[28,1,29,16],[28,29,28,80],[22,1,23,16],[22,29,22,80],[24,1,25,16],[24,29,24,80],[20,1,21,16],[4,63,4,67],[4,68,4,71],[8,75,9,80],[11,59,12,66],[11,67,13,80],[12,18,14,19],[14,59,15,66],[14,67,16,80],[17,1,18,16],[2,33,3,62],[2,63,3,71],[8,33,9,38],[8,39,9,44],[8,45,9,50],[8,51,9,56],[8,57,9,62],[8,63,9,68],[8,69,9,74],[2,72,3,80],[5,57,5,59],[5,60,5,62],[6,33,7,44],[6,45,7,80],[4,72,4,76],[4,77,4,80],[4,33,4,62],[5,36,5,38],[5,39,5,41],[5,42,5,44],[5,45,5,47],[5,48,5,50],[5,51,5,53],[5,54,5,56],[3,1,3,14],[7,1,8,26],[9,1,9,26],[12,15,14,17],[12,20,14,22],[12,12,14,14],[12,23,14,25],[4,1,6,26],[2,27,10,32]]}
[]
[]
[null,null,null,null,null,null,null,null,null,null,null,null,null,null,null,null,null,null,null,null,null,null,null,null,null,null,null,"※処理事項",null,null,null,null,null,"事業者コード",null,null,null,null,null,null,null,null,null,null,null,null,null,null,null,null,null,null,null,null,null,null,null,null,null,null,null,null,null,"処理\n区分",null,null,null,null,null,null,null,null,"申告\n区分"]
[null,"　申告者の氏名又は名称"]
[null,{"$f":"IF(提出用!B5=\"\",\"\",提出用!B5)","v":""},null,null,null,null,null,null,null,null,null,null,null,null,null,null,null,null,null,null,null,null,null,null,null,null,null,null,null,null,null,null,null,{"$f":"IF(提出用!AH5=\"\",\"\",提出用!AH5)","v":""}]
[]
[null,null,null,null,null,null,null,null,null,null,null,null,null,null,null,null,null,null,null,null,null,null,null,null,null,null,null,null,null,null,null,null,null,"予備",null,null,null,null,null,null,null,null,null,null,null,"申 告 年 月 日"]
[null,"　個人番号又は法人番号\n　　　　　↓個人番号の記載に当たっては、左端を空欄とし、ここから記載してください。"]
[null,null,null,null,null,null,null,null,null,null,null,null,null,null,null,null,null,null,null,null,null,null,null,null,null,null,null,null,null,null,null,null,null,1,null,null,null,null,null,3]
[null,{"$f":"IF(提出用!B10=\"\",\"\",提出用!B10)","v":""}]
[]
[null,null,null,null,null,null,null,null,null,null,null,null,null,null,null,null,null,null,null,null,null,null,null,null,null,null,null,null,null,null,null,null,null,null,null,null,null,null,null,null,null,null,null,null,null,null,null,null,null,null,null,null,null,null,null,null,null,null,null,{"$f":"IF(提出用!BH12=\"\",\"\",提出用!BH12)","v":""},null,null,null,null,null,null,null,"枚のうち"]
[null,null,null,null,null,null,null,null,null,null,null,null,"令和",null,null,{"$f":"IF(提出用!P13=\"\",\"\",提出用!P13)","v":""},null,null,"年",null,{"$f":"IF(提出用!U13=\"\",\"\",提出用!U13)","v":""},null,null,"月分"]
[]
[null,null,null,null,null,null,null,null,null,null,null,null,null,null,null,null,null,null,null,null,null,null,null,null,null,null,null,null,null,null,null,null,null,null,null,null,null,null,null,null,null,null,null,null,null,null,null,null,null,null,null,null,null,null,null,null,null,null,null,{"$f":"IF(提出用!BH15=\"\",\"\",提出用!BH15)","v":""},null,null,null,null,null,null,null,"枚目"]
[]
[]
[null,"品目",null,null,null,null,null,null,null,null,null,null,null,null,null,null,null,"売渡し又は消費等の数量"]
[]
[]
[null,{"$f":"IF(提出用!B21=\"\",\"\",提出用!B21)","v":""},null,null,null,null,null,null,null,null,null,null,null,null,null,null,null,null,null,null,null,null,null,null,null,null,null,null,null,{"$f":"IF(提出用!AD21=\"\",\"\",提出用!AD21)","v":""}]
[]
[null,{"$f":"IF(提出用!B23=\"\",\"\",提出用!B23)","v":""},null,null,null,null,null,null,null,null,null,null,null,null,null,null,null,null,null,null,null,null,null,null,null,null,null,null,null,{"$f":"IF(提出用!AD23=\"\",\"\",提出用!AD23)","v":""}]
[]
[null,{"$f":"IF(提出用!B25=\"\",\"\",提出用!B25)","v":""},null,null,null,null,null,null,null,null,null,null,null,null,null,null,null,null,null,null,null,null,null,null,null,null,null,null,null,{"$f":"IF(提出用!AD25=\"\",\"\",提出用!AD25)","v":""}]
[]
[null,{"$f":"IF(提出用!B27=\"\",\"\",提出用!B27)","v":""},null,null,null,null,null,null,null,null,null,null,null,null,null,null,null,null,null,null,null,null,null,null,null,null,null,null,null,{"$f":"IF(提出用!AD27=\"\",\"\",提出用!AD27)","v":""}]
[]
[null,{"$f":"IF(提出用!B29=\"\",\"\",提出用!B29)","v":""},null,null,null,null,null,null,null,null,null,null,null,null,null,null,null,null,null,null,null,null,null,null,null,null,null,null,null,{"$f":"IF(提出用!AD29=\"\",\"\",提出用!AD29)","v":""}]
[]
[null,{"$f":"IF(提出用!B31=\"\",\"\",提出用!B31)","v":""},null,null,null,null,null,null,null,null,null,null,null,null,null,null,null,null,null,null,null,null,null,null,null,null,null,null,null,{"$f":"IF(提出用!AD31=\"\",\"\",提出用!AD31)","v":""}]
[]
[null,{"$f":"IF(提出用!B33=\"\",\"\",提出用!B33)","v":""},null,null,null,null,null,null,null,null,null,null,null,null,null,null,null,null,null,null,null,null,null,null,null,null,null,null,null,{"$f":"IF(提出用!AD33=\"\",\"\",提出用!AD33)","v":""}]
[]
[null,{"$f":"IF(提出用!B35=\"\",\"\",提出用!B35)","v":""},null,null,null,null,null,null,null,null,null,null,null,null,null,null,null,null,null,null,null,null,null,null,null,null,null,null,null,{"$f":"IF(提出用!AD35=\"\",\"\",提出用!AD35)","v":""}]
[]
[null,{"$f":"IF(提出用!B37=\"\",\"\",提出用!B37)","v":""},null,null,null,null,null,null,null,null,null,null,null,null,null,null,null,null,null,null,null,null,null,null,null,null,null,null,null,{"$f":"IF(提出用!AD37=\"\",\"\",提出用!AD37)","v":""}]
[]
[null,{"$f":"IF(提出用!B39=\"\",\"\",提出用!B39)","v":""},null,null,null,null,null,null,null,null,null,null,null,null,null,null,null,null,null,null,null,null,null,null,null,null,null,null,null,{"$f":"IF(提出用!AD39=\"\",\"\",提出用!AD39)","v":""}]
[]
[null,{"$f":"IF(提出用!B41=\"\",\"\",提出用!B41)","v":""},null,null,null,null,null,null,null,null,null,null,null,null,null,null,null,null,null,null,null,null,null,null,null,null,null,null,null,{"$f":"IF(提出用!AD41=\"\",\"\",提出用!AD41)","v":""}]
[]
[null,{"$f":"IF(提出用!B43=\"\",\"\",提出用!B43)","v":""},null,null,null,null,null,null,null,null,null,null,null,null,null,null,null,null,null,null,null,null,null,null,null,null,null,null,null,{"$f":"IF(提出用!AD43=\"\",\"\",提出用!AD43)","v":""}]
[]
[null,{"$f":"IF(提出用!B45=\"\",\"\",提出用!B45)","v":""},null,null,null,null,null,null,null,null,null,null,null,null,null,null,null,null,null,null,null,null,null,null,null,null,null,null,null,{"$f":"IF(提出用!AD45=\"\",\"\",提出用!AD45)","v":""}]
[]
[null,{"$f":"IF(提出用!B47=\"\",\"\",提出用!B47)","v":""},null,null,null,null,null,null,null,null,null,null,null,null,null,null,null,null,null,null,null,null,null,null,null,null,null,null,null,{"$f":"IF(提出用!AD47=\"\",\"\",提出用!AD47)","v":""}]
[]
[null,{"$f":"IF(提出用!B49=\"\",\"\",提出用!B49)","v":""},null,null,null,null,null,null,null,null,null,null,null,null,null,null,null,null,null,null,null,null,null,null,null,null,null,null,null,{"$f":"IF(提出用!AD49=\"\",\"\",提出用!AD49)","v":""}]
[]
[null,{"$f":"IF(提出用!B51=\"\",\"\",提出用!B51)","v":""},null,null,null,null,null,null,null,null,null,null,null,null,null,null,null,null,null,null,null,null,null,null,null,null,null,null,null,{"$f":"IF(提出用!AD51=\"\",\"\",提出用!AD51)","v":""}]
[]
[null,{"$f":"IF(提出用!B53=\"\",\"\",提出用!B53)","v":""},null,null,null,null,null,null,null,null,null,null,null,null,null,null,null,null,null,null,null,null,null,null,null,null,null,null,null,{"$f":"IF(提出用!AD53=\"\",\"\",提出用!AD53)","v":""}]
[]
[null,{"$f":"IF(提出用!B55=\"\",\"\",提出用!B55)","v":""},null,null,null,null,null,null,null,null,null,null,null,null,null,null,null,null,null,null,null,null,null,null,null,null,null,null,null,{"$f":"IF(提出用!AD55=\"\",\"\",提出用!AD55)","v":""}]
[]
[null,{"$f":"IF(提出用!B57=\"\",\"\",提出用!B57)","v":""},null,null,null,null,null,null,null,null,null,null,null,null,null,null,null,null,null,null,null,null,null,null,null,null,null,null,null,{"$f":"IF(提出用!AD57=\"\",\"\",提出用!AD57)","v":""}]
[]
[null,{"$f":"IF(提出用!B59=\"\",\"\",提出用!B59)","v":""},null,null,null,null,null,null,null,null,null,null,null,null,null,null,null,null,null,null,null,null,null,null,null,null,null,null,null,{"$f":"IF(提出用!AD59=\"\",\"\",提出用!AD59)","v":""}]
[]
[null,{"$f":"IF(提出用!B61=\"\",\"\",提出用!B61)","v":""},null,null,null,null,null,null,null,null,null,null,null,null,null,null,null,null,null,null,null,null,null,null,null,null,null,null,null,{"$f":"IF(提出用!AD61=\"\",\"\",提出用!AD61)","v":""}]
[]
[null,{"$f":"IF(提出用!B63=\"\",\"\",提出用!B63)","v":""},null,null,null,null,null,null,null,null,null,null,null,null,null,null,null,null,null,null,null,null,null,null,null,null,null,null,null,{"$f":"IF(提出用!AD63=\"\",\"\",提出用!AD63)","v":""}]
[]
[null,{"$f":"IF(提出用!B65=\"\",\"\",提出用!B65)","v":""},null,null,null,null,null,null,null,null,null,null,null,null,null,null,null,null,null,null,null,null,null,null,null,null,null,null,null,{"$f":"IF(提出用!AD65=\"\",\"\",提出用!AD65)","v":""}]
[]
[null,{"$f":"IF(提出用!B67=\"\",\"\",提出用!B67)","v":""},null,null,null,null,null,null,null,null,null,null,null,null,null,null,null,null,null,null,null,null,null,null,null,null,null,null,null,{"$f":"IF(提出用!AD67=\"\",\"\",提出用!AD67)","v":""}]