{"text_format":"1","workbook":"xlsx","n_sheets":4,"sheets":["提出用","提出用写","入力用","提出用控"],"not_rendered":{"charts":0,"images":3,"macros":1,"external_links":0,"defined_names":4,"comments":0,"pivot_tables":0},"unopened":[],"bounds":{"document_bytes":16777216,"sheet_cells":100000,"rows_first":2000,"rows_last":500,"rows_between":2000,"halvings":0,"cell_chars":16384,"cell_head_chars":4096},"cells_cut":0,"cells_raw":0,"read":"whole","date_system":"1900"}

{"sheet":"提出用","index":0,"n_rows":17,"n_cols":65,"rows_kept":17,"cut":false,"hidden":false,"merged":[[3,1,3,22],[4,1,5,22],[6,1,7,22],[8,1,8,22],[18,1,20,12],[16,1,17,12],[16,13,17,72],[8,67,8,72],[18,13,20,24],[11,16,13,17],[10,51,11,58],[13,51,14,58],[4,69,4,72],[4,55,4,58],[4,25,4,54],[2,23,9,24],[19,25,19,72],[35,13,36,24],[33,1,34,12],[33,25,33,72],[35,1,36,12],[35,25,35,72],[33,13,34,24],[31,25,31,72],[25,13,26,24],[27,13,28,24],[29,13,30,24],[31,13,32,24],[2,64,3,72],[4,59,4,63],[5,52,5,54],[2,25,3,54],[2,55,3,63],[4,64,4,68],[5,28,5,30],[5,40,5,42],[5,43,5,45],[5,46,5,48],[5,49,5,51],[5,31,5,33],[5,34,5,36],[5,37,5,39],[6,25,7,36],[6,37,7,72],[8,25,8,30],[8,31,8,36],[8,37,8,42],[8,43,8,48],[8,49,8,54],[8,55,8,60],[8,61,8,66],[37,1,38,12],[37,13,38,24],[21,1,22,12],[21,13,22,24],[21,25,21,72],[37,25,37,72],[23,25,23,72],[25,1,26,12],[25,25,25,72],[23,1,24,12],[23,13,24,24],[27,1,28,12],[27,25,27,72],[29,1,30,12],[29,25,29,72],[31,1,32,12],[41,13,42,24],[39,1,40,12],[39,13,40,24],[39,25,39,72],[41,25,41,72],[47,1,48,12],[47,13,48,24],[47,25,47,72],[11,14,13,15],[11,18,13,19],[11,11,13,13],[11,20,13,22],[10,59,12,72],[13,59,15,72],[45,1,46,12],[45,13,46,24],[43,1,44,12],[43,13,44,24],[43,25,43,72],[45,25,45,72],[41,1,42,12]]}
[]
[]
[null,null,null,null,null,null,null,null,null,null,null,null,null,null,null,null,null,null,null,null,null,null,null,"※処理事項",null,"事業者コード",null,null,null,null,null,null,null,null,null,null,null,null,null,null,null,null,null,null,null,null,null,null,null,null,null,null,null,null,null,"処理\n区分",null,null,null,null,null,null,null,null,"申告\n区分"]
[null,"　申告者の氏名又は名称"]
[]
[]
[null,"　個人番号又は法人番号\n　　　　　　↓個人番号の記載に当たっては、左端を空欄とし、ここから記載してください。",null,null,null,null,null,null,null,null,null,null,null,null,null,null,null,null,null,null,null,null,null,null,null,"予備",null,null,null,null,null,null,null,null,null,null,null,"申告年月日"]
[]
[null,null,null,null,null,null,null,null,null,null,null,null,null,null,null,null,null,null,null,null,null,null,null,null,null,1,null,null,null,null,null,3]
[]
[null,null,null,null,null,null,null,null,null,null,null,null,null,null,null,null,null,null,null,null,null,null,null,null,null,null,null,null,null,null,null,null,null,null,null,null,null,null,null,null,null,null,null,null,null,null,null,null,null,null,null,null,null,null,null,null,null,null,null,"枚のうち"]
[null,null,null,null,null,null,null,null,null,null,null,"令和",null,null,null,null,"年",null,null,null,"月分"]
[]
[null,null,null,null,null,null,null,null,null,null,null,null,null,null,null,null,null,null,null,null,null,null,null,null,null,null,null,null,null,null,null,null,null,null,null,null,null,null,null,null,null,null,null,null,null,null,null,null,null,null,null,null,null,null,null,null,null,null,null,"枚目"]
[]
[]
[null,"卸売販売業者等の氏名または名称",null,null,null,null,null,null,null,null,null,null,null,"数量"]

{"sheet":"提出用写","index":1,"n_rows":48,"n_cols":65,"rows_kept":48,"cut":false,"hidden":true,"merged":[[37,1,38,12],[37,14,37,23],[37,25,37,72],[39,1,40,12],[39,14,39,23],[39,25,39,72],[37,13,38,13],[39,13,40,13],[33,1,34,12],[33,14,33,23],[33,25,33,72],[35,1,36,12],[35,14,35,23],[35,25,35,72],[33,13,34,13],[35,13,36,13],[47,1,48,12],[47,14,47,23],[47,25,47,72],[45,13,46,13],[47,13,48,13],[41,1,42,12],[41,14,41,23],[41,25,41,72],[43,1,44,12],[43,14,43,23],[43,25,43,72],[41,13,42,13],[43,13,44,13],[45,1,46,12],[45,14,45,23],[45,25,45,72],[29,1,30,12],[29,14,29,23],[29,25,29,72],[31,1,32,12],[31,14,31,23],[31,25,31,72],[29,13,30,13],[31,13,32,13],[27,1,28,12],[27,14,27,23],[27,25,27,72],[27,13,28,13],[25,1,26,12],[25,14,25,23],[25,25,25,72],[16,13,17,13],[18,13,20,13],[10,59,12,72],[13,59,15,72],[21,1,22,12],[21,14,21,23],[21,25,21,72],[23,1,24,12],[23,14,23,23],[23,25,23,72],[21,13,22,13],[23,13,24,13],[25,13,26,13],[16,1,17,12],[18,1,20,12],[19,14,19,23],[19,25,19,72],[16,24,17,72],[16,14,17,23],[11,16,13,17],[11,11,13,13],[3,1,3,22],[4,1,5,22],[6,1,7,22],[10,51,11,58],[13,51,14,58],[11,14,13,15],[11,18,13,19],[11,20,13,22],[8,25,8,30],[8,31,8,36],[8,37,8,42],[8,1,8,22],[6,25,7,36],[6,37,7,72],[5,28,5,30],[5,31,5,33],[5,34,5,36],[5,37,5,39],[5,40,5,42],[5,43,5,45],[5,46,5,48],[4,59,4,63],[2,23,9,24],[2,25,3,54],[8,55,8,60],[8,61,8,66],[8,67,8,72],[5,49,5,51],[5,52,5,54],[4,25,4,54],[4,55,4,58],[2,55,3,63],[2,64,3,72],[4,64,4,68],[4,69,4,72],[8,43,8,48],[8,49,8,54]]}
[]
[]
[null,null,null,null,null,null,null,null,null,null,null,null,null,null,null,null,null,null,null,null,null,null,null,"※処理事項",null,"事業者コード",null,null,null,null,null,null,null,null,null,null,null,null,null,null,null,null,null,null,null,null,null,null,null,null,null,null,null,null,null,"処理\n区分",null,null,null,null,null,null,null,null,"申告\n区分"]
[null,"　申告者の氏名又は名称"]
[null,{"$f":"IF(提出用!B5=\"\",\"\",提出用!B5)","v":""},null,null,null,null,null,null,null,null,null,null,null,null,null,null,null,null,null,null,null,null,null,null,null,{"$f":"IF(提出用!Z5=\"\",\"\",提出用!Z5)","v":""}]
[]
[null,"　個人番号又は法人番号\n　　　　　　↓個人番号の記載に当たっては、左端を空欄とし、ここから記載してください。",null,null,null,null,null,null,null,null,null,null,null,null,null,null,null,null,null,null,null,null,null,null,null,"予備",null,null,null,null,null,null,null,null,null,null,null,"申告年月日"]
[]
[null,{"$f":"IF(提出用!B9=\"\",\"\",提出用!B9)","v":""},null,null,null,null,null,null,null,null,null,null,null,null,null,null,null,null,null,null,null,null,null,null,null,1,null,null,null,null,null,3]
[]
[null,null,null,null,null,null,null,null,null,null,null,null,null,null,null,null,null,null,null,null,null,null,null,null,null,null,null,null,null,null,null,null,null,null,null,null,null,null,null,null,null,null,null,null,null,null,null,null,null,null,null,{"$f":"IF(提出用!AZ11=\"\",\"\",提出用!AZ11)","v":""},null,null,null,null,null,null,null,"枚のうち"]
[null,null,null,null,null,null,null,null,null,null,null,"令和",null,null,{"$f":"IF(提出用!O12=\"\",\"\",提出用!O12)","v":""},null,"年",null,{"$f":"IF(提出用!S12=\"\",\"\",提出用!S12)","v":""},null,"月分"]
[]
[null,null,null,null,null,null,null,null,null,null,null,null,null,null,null,null,null,null,null,null,null,null,null,null,null,null,null,null,null,null,null,null,null,null,null,null,null,null,null,null,null,null,null,null,null,null,null,null,null,null,null,{"$f":"IF(提出用!AZ14=\"\",\"\",提出用!AZ14)","v":""},null,null,null,null,null,null,null,"枚目"]
[]
[]
[null,"卸売販売業者等の氏名または名称",null,null,null,null,null,null,null,null,null,null,null,null,"相手先事業者コード",null,null,null,null,null,null,null,null,null,"数量"]
[]
[null,{"$f":"IF(提出用!B19=\"\",\"\",提出用!B19)","v":""}]
[null,null,null,null,null,null,null,null,null,null,null,null,null,null,null,null,null,null,null,null,null,null,null,null,null,{"$f":"IF(提出用!Z20=\"\",\"\",提出用!Z20)","v":""}]
[]
[null,{"$f":"IF(提出用!B22=\"\",\"\",提出用!B22)","v":""},null,null,null,null,null,null,null,null,null,null,null,null,null,null,null,null,null,null,null,null,null,null,null,{"$f":"IF(提出用!Z22=\"\",\"\",提出用!Z22)","v":""}]
[]
[null,{"$f":"IF(提出用!B24=\"\",\"\",提出用!B24)","v":""},null,null,null,null,null,null,null,null,null,null,null,null,null,null,null,null,null,null,null,null,null,null,null,{"$f":"IF(提出用!Z24=\"\",\"\",提出用!Z24)","v":""}]
[]
[null,{"$f":"IF(提出用!B26=\"\",\"\",提出用!B26)","v":""},null,null,null,null,null,null,null,null,null,null,null,null,null,null,null,null,null,null,null,null,null,null,null,{"$f":"IF(提出用!Z26=\"\",\"\",提出用!Z26)","v":""}]
[]
[null,{"$f":"IF(提出用!B28=\"\",\"\",提出用!B28)","v":""},null,null,null,null,null,null,null,null,null,null,null,null,null,null,null,null,null,null,null,null,null,null,null,{"$f":"IF(提出用!Z28=\"\",\"\",提出用!Z28)","v":""}]
[]
[null,{"$f":"IF(提出用!B30=\"\",\"\",提出用!B30)","v":""},null,null,null,null,null,null,null,null,null,null,null,null,null,null,null,null,null,null,null,null,null,null,null,{"$f":"IF(提出用!Z30=\"\",\"\",提出用!Z30)","v":""}]
[]
[null,{"$f":"IF(提出用!B32=\"\",\"\",提出用!B32)","v":""},null,null,null,null,null,null,null,null,null,null,null,null,null,null,null,null,null,null,null,null,null,null,null,{"$f":"IF(提出用!Z32=\"\",\"\",提出用!Z32)","v":""}]
[]
[null,{"$f":"IF(提出用!B34=\"\",\"\",提出用!B34)","v":""},null,null,null,null,null,null,null,null,null,null,null,null,null,null,null,null,null,null,null,null,null,null,null,{"$f":"IF(提出用!Z34=\"\",\"\",提出用!Z34)","v":""}]
[]
[null,{"$f":"IF(提出用!B36=\"\",\"\",提出用!B36)","v":""},null,null,null,null,null,null,null,null,null,null,null,null,null,null,null,null,null,null,null,null,null,null,null,{"$f":"IF(提出用!Z36=\"\",\"\",提出用!Z36)","v":""}]
[]
[null,{"$f":"IF(提出用!B38=\"\",\"\",提出用!B38)","v":""},null,null,null,null,null,null,null,null,null,null,null,null,null,null,null,null,null,null,null,null,null,null,null,{"$f":"IF(提出用!Z38=\"\",\"\",提出用!Z38)","v":""}]
[]
[null,{"$f":"IF(提出用!B40=\"\",\"\",提出用!B40)","v":""},null,null,null,null,null,null,null,null,null,null,null,null,null,null,null,null,null,null,null,null,null,null,null,{"$f":"IF(提出用!Z40=\"\",\"\",提出用!Z40)","v":""}]
[]
[null,{"$f":"IF(提出用!B42=\"\",\"\",提出用!B42)","v":""},null,null,null,null,null,null,null,null,null,null,null,null,null,null,null,null,null,null,null,null,null,null,null,{"$f":"IF(提出用!Z42=\"\",\"\",提出用!Z42)","v":""}]
[]
[null,{"$f":"IF(提出用!B44=\"\",\"\",提出用!B44)","v":""},null,null,null,null,null,null,null,null,null,null,null,null,null,null,null,null,null,null,null,null,null,null,null,{"$f":"IF(提出用!Z44=\"\",\"\",提出用!Z44)","v":""}]
[]
[null,{"$f":"IF(提出用!B46=\"\",\"\",提出用!B46)","v":""},null,null,null,null,null,null,null,null,null,null,null,null,null,null,null,null,null,null,null,null,null,null,null,{"$f":"IF(提出用!Z46=\"\",\"\",提出用!Z46)","v":""}]
[]
[null,{"$f":"IF(提出用!B48=\"\",\"\",提出用!B48)","v":""},null,null,null,null,null,null,null,null,null,null,null,null,null,null,null,null,null,null,null,null,null,null,null,{"$f":"IF(提出用!Z48=\"\",\"\",提出用!Z48)","v":""}]

{"sheet":"入力用","index":2,"n_rows":48,"n_cols":65,"rows_kept":48,"cut":false,"hidden":false,"merged":[[16,1,17,2],[12,1,15,2],[47,25,47,72],[18,1,20,2],[21,1,22,2],[23,1,24,2],[25,1,26,2],[27,1,28,2],[29,1,30,2],[47,1,48,2],[43,25,43,72],[45,25,45,72],[39,25,39,72],[41,25,41,72],[35,25,35,72],[37,25,37,72],[27,25,27,72],[29,14,29,23],[29,25,29,72],[23,14,23,23],[23,25,23,72],[25,14,25,23],[25,25,25,72],[18,3,20,13],[47,14,47,23],[43,14,43,23],[45,14,45,23],[35,14,35,23],[37,14,37,23],[27,14,27,23],[21,14,21,23],[18,14,19,23],[43,1,44,2],[45,1,46,2],[39,14,39,23],[41,14,41,23],[39,1,40,2],[41,1,42,2],[35,1,36,2],[37,1,38,2],[33,14,33,23],[33,25,33,72],[31,1,32,2],[33,1,34,2],[31,14,31,23],[31,25,31,72],[21,25,21,72],[5,52,5,54],[8,25,8,30],[8,31,8,36],[8,37,8,42],[8,43,8,48],[8,49,8,54],[6,19,6,72],[8,55,8,60],[8,61,8,66],[8,67,8,72],[5,43,5,45],[5,46,5,48],[5,49,5,51],[5,28,5,30],[5,31,5,33],[5,34,5,36],[5,37,5,39],[5,40,5,42],[2,25,3,54],[4,25,4,54],[2,55,3,63],[2,64,3,72],[4,64,4,68],[4,69,4,72],[4,55,4,58],[4,59,4,63],[18,25,19,72],[18,24,19,24],[7,14,10,18],[8,23,9,24],[10,51,11,58],[10,59,12,72],[13,51,14,58],[13,59,15,72],[10,20,13,50],[16,51,16,58],[11,16,13,17],[11,14,13,15],[11,18,13,19]]}
[]
[]
[null,null,null,null,null,null,null,null,null,null,null,null,null,null,null,null,null,null,null,null,null,null,null,null,null,"事業者コード",null,null,null,null,null,null,null,null,null,null,null,null,null,null,null,null,null,null,null,null,null,null,null,null,null,null,null,null,null,"処理\n区分",null,null,null,null,null,null,null,null,"申告\n区分"]
[]
[null,null,null,null,null,null,null,null,null,null,null,null,null,null,null,null,null,null,null,null,null,null,null,null,null,{"$f":"IF(提出用!Z5=\"\",\"\",提出用!Z5)","v":""}]
[]
[]
[]
[null,null,null,null,null,null,null,null,null,null,null,null,null,null,null,null,null,null,null,null,null,null,null,"ウ",null,1,null,null,null,null,null,3]
[]
[null,null,null,null,null,null,null,null,null,null,null,null,null,null,null,null,null,null,null,null,null,null,null,null,null,null,null,null,null,null,null,null,null,null,null,null,null,null,null,null,null,null,null,null,null,null,null,null,null,null,null,{"$f":"IF(提出用!AZ11=\"\",\"\",提出用!AZ11)","v":""}]
[null,null,null,null,null,null,null,null,null,null,null,null,null,null,{"$f":"IF(提出用!O12=\"\",\"\",提出用!O12)","v":""},null,null,null,{"$f":"IF(提出用!S12=\"\",\"\",提出用!S12)","v":""}]
[null,"エ"]
[null,null,null,null,null,null,null,null,null,null,null,null,null,null,null,null,null,null,null,null,null,null,null,null,null,null,null,null,null,null,null,null,null,null,null,null,null,null,null,null,null,null,null,null,null,null,null,null,null,null,null,{"$f":"IF(提出用!AZ14=\"\",\"\",提出用!AZ14)","v":""}]
[]
[]
[]
[]
[null,"01",null,null,null,null,null,null,null,null,null,null,null,null,{"$f":"IF(提出用写!O20=\"\",\"\",提出用写!O20)","v":""},null,null,null,null,null,null,null,null,null,null,{"$f":"IF(提出用!Z20=\"\",\"\",提出用!Z20)","v":""}]
[]
[]
[null,"02",null,null,null,null,null,null,null,null,null,null,null,null,{"$f":"IF(提出用写!O22=\"\",\"\",提出用写!O22)","v":""},null,null,null,null,null,null,null,null,null,null,{"$f":"IF(提出用!Z22=\"\",\"\",提出用!Z22)","v":""}]
[]
[null,"03",null,null,null,null,null,null,null,null,null,null,null,null,{"$f":"IF(提出用写!O24=\"\",\"\",提出用写!O24)","v":""},null,null,null,null,null,null,null,null,null,null,{"$f":"IF(提出用!Z24=\"\",\"\",提出用!Z24)","v":""}]
[]
[null,"04",null,null,null,null,null,null,null,null,null,null,null,null,{"$f":"IF(提出用写!O26=\"\",\"\",提出用写!O26)","v":""},null,null,null,null,null,null,null,null,null,null,{"$f":"IF(提出用!Z26=\"\",\"\",提出用!Z26)","v":""}]
[]
[null,"05",null,null,null,null,null,null,null,null,null,null,null,null,{"$f":"IF(提出用写!O28=\"\",\"\",提出用写!O28)","v":""},null,null,null,null,null,null,null,null,null,null,{"$f":"IF(提出用!Z28=\"\",\"\",提出用!Z28)","v":""}]
[]
[null,"06",null,null,null,null,null,null,null,null,null,null,null,null,{"$f":"IF(提出用写!O30=\"\",\"\",提出用写!O30)","v":""},null,null,null,null,null,null,null,null,null,null,{"$f":"IF(提出用!Z30=\"\",\"\",提出用!Z30)","v":""}]
[]
[null,"07",null,null,null,null,null,null,null,null,null,null,null,null,{"$f":"IF(提出用写!O32=\"\",\"\",提出用写!O32)","v":""},null,null,null,null,null,null,null,null,null,null,{"$f":"IF(提出用!Z32=\"\",\"\",提出用!Z32)","v":""}]
[]
[null,"08",null,null,null,null,null,null,null,null,null,null,null,null,{"$f":"IF(提出用写!O34=\"\",\"\",提出用写!O34)","v":""},null,null,null,null,null,null,null,null,null,null,{"$f":"IF(提出用!Z34=\"\",\"\",提出用!Z34)","v":""}]
[]
[null,"09",null,null,null,null,null,null,null,null,null,null,null,null,{"$f":"IF(提出用写!O36=\"\",\"\",提出用写!O36)","v":""},null,null,null,null,null,null,null,null,null,null,{"$f":"IF(提出用!Z36=\"\",\"\",提出用!Z36)","v":""}]
[]
[null,"10",null,null,null,null,null,null,null,null,null,null,null,null,{"$f":"IF(提出用写!O38=\"\",\"\",提出用写!O38)","v":""},null,null,null,null,null,null,null,null,null,null,{"$f":"IF(提出用!Z38=\"\",\"\",提出用!Z38)","v":""}]
[]
[null,"11",null,null,null,null,null,null,null,null,null,null,null,null,{"$f":"IF(提出用写!O40=\"\",\"\",提出用写!O40)","v":""},null,null,null,null,null,null,null,null,null,null,{"$f":"IF(提出用!Z40=\"\",\"\",提出用!Z40)","v":""}]
[]
[null,"12",null,null,null,null,null,null,null,null,null,null,null,null,{"$f":"IF(提出用写!O42=\"\",\"\",提出用写!O42)","v":""},null,null,null,null,null,null,null,null,null,null,{"$f":"IF(提出用!Z42=\"\",\"\",提出用!Z42)","v":""}]
[]
[null,"13",null,null,null,null,null,null,null,null,null,null,null,null,{"$f":"IF(提出用写!O44=\"\",\"\",提出用写!O44)","v":""},null,null,null,null,null,null,null,null,null,null,{"$f":"IF(提出用!Z44=\"\",\"\",提出用!Z44)","v":""}]
[]
[null,"14",null,null,null,null,null,null,null,null,null,null,null,null,{"$f":"IF(提出用写!O46=\"\",\"\",提出用写!O46)","v":""},null,null,null,null,null,null,null,null,null,null,{"$f":"IF(提出用!Z46=\"\",\"\",提出用!Z46)","v":""}]
[]
[null,"15",null,null,null,null,null,null,null,null,null,null,null,null,{"$f":"IF(提出用写!O48=\"\",\"\",提出用写!O48)","v":""},null,null,null,null,null,null,null,null,null,null,{"$f":"IF(提出用!Z48=\"\",\"\",提出用!Z48)","v":""}]

{"sheet":"提出用控","index":3,"n_rows":48,"n_cols":65,"rows_kept":48,"cut":false,"hidden":false,"merged":[[3,1,3,22],[4,1,5,22],[6,1,7,22],[8,1,8,22],[47,13,48,24],[47,1,48,12],[43,1,44,12],[45,1,46,12],[39,1,40,12],[41,1,42,12],[35,1,36,12],[37,1,38,12],[27,1,28,12],[18,1,20,12],[23,1,24,12],[2,23,9,24],[47,25,47,72],[16,13,17,72],[18,13,20,24],[21,13,22,24],[23,13,24,24],[25,13,26,24],[27,13,28,24],[43,25,43,72],[45,25,45,72],[43,13,44,24],[45,13,46,24],[39,25,39,72],[41,25,41,72],[39,13,40,24],[41,13,42,24],[35,25,35,72],[37,25,37,72],[35,13,36,24],[37,13,38,24],[31,1,32,12],[31,25,31,72],[33,1,34,12],[33,25,33,72],[31,13,32,24],[33,13,34,24],[27,25,27,72],[29,1,30,12],[29,25,29,72],[29,13,30,24],[25,1,26,12],[25,25,25,72],[19,25,19,72],[21,1,22,12],[21,25,21,72],[16,1,17,12],[11,16,13,17],[11,11,13,13],[13,59,15,72],[11,14,13,15],[11,18,13,19],[11,20,13,22],[23,25,23,72],[2,64,3,72],[8,55,8,60],[8,61,8,66],[8,67,8,72],[10,59,12,72],[4,64,4,68],[4,69,4,72],[2,55,3,63],[5,43,5,45],[5,46,5,48],[4,55,4,58],[4,59,4,63],[6,25,7,36],[6,37,7,72],[10,51,11,58],[2,25,3,54],[5,28,5,30],[5,31,5,33],[13,51,14,58],[8,25,8,30],[8,31,8,36],[8,37,8,42],[8,43,8,48],[8,49,8,54],[5,49,5,51],[5,52,5,54],[4,25,4,54],[5,34,5,36],[5,37,5,39],[5,40,5,42]]}
[]
[]
[null,null,null,null,null,null,null,null,null,null,null,null,null,null,null,null,null,null,null,null,null,null,null,"※処理事項",null,"事業者コード",null,null,null,null,null,null,null,null,null,null,null,null,null,null,null,null,null,null,null,null,null,null,null,null,null,null,null,null,null,"処理\n区分",null,null,null,null,null,null,null,null,"申告\n区分"]
[null,"　申告者の氏名又は名称"]
[null,{"$f":"IF(提出用!B5=\"\",\"\",提出用!B5)","v":""},null,null,null,null,null,null,null,null,null,null,null,null,null,null,null,null,null,null,null,null,null,null,null,{"$f":"IF(提出用!Z5=\"\",\"\",提出用!Z5)","v":""}]
[]
[null,"　個人番号又は法人番号\n　　　　　　↓個人番号の記載に当たっては、左端を空欄とし、ここから記載してください。",null,null,null,null,null,null,null,null,null,null,null,null,null,null,null,null,null,null,null,null,null,null,null,"予備",null,null,null,null,null,null,null,null,null,null,null,"申告年月日"]
[]
[null,{"$f":"IF(提出用!B9=\"\",\"\",提出用!B9)","v":""},null,null,null,null,null,null,null,null,null,null,null,null,null,null,null,null,null,null,null,null,null,null,null,1,null,null,null,null,null,3]
[]
[null,null,null,null,null,null,null,null,null,null,null,null,null,null,null,null,null,null,null,null,null,null,null,null,null,null,null,null,null,null,null,null,null,null,null,null,null,null,null,null,null,null,null,null,null,null,null,null,null,null,null,{"$f":"IF(提出用!AZ11=\"\",\"\",提出用!AZ11)","v":""},null,null,null,null,null,null,null,"枚のうち"]
[null,null,null,null,null,null,null,null,null,null,null,"令和",null,null,{"$f":"IF(提出用!O12=\"\",\"\",提出用!O12)","v":""},null,"年",null,{"$f":"IF(提出用!S12=\"\",\"\",提出用!S12)","v":""},null,"月分"]
[]
[null,null,null,null,null,null,null,null,null,null,null,null,null,null,null,null,null,null,null,null,null,null,null,null,null,null,null,null,null,null,null,null,null,null,null,null,null,null,null,null,null,null,null,null,null,null,null,null,null,null,null,{"$f":"IF(提出用!AZ14=\"\",\"\",提出用!AZ14)","v":""},null,null,null,null,null,null,null,"枚目"]
[]
[]
[null,"卸売販売業者等の氏名または名称",null,null,null,null,null,null,null,null,null,null,null,"数量"]
[]
[null,{"$f":"IF(提出用!B19=\"\",\"\",提出用!B19)","v":""}]
[null,null,null,null,null,null,null,null,null,null,null,null,null,null,null,null,null,null,null,null,null,null,null,null,null,{"$f":"IF(提出用!Z20=\"\",\"\",提出用!Z20)","v":""}]
[]
[null,{"$f":"IF(提出用!B22=\"\",\"\",提出用!B22)","v":""},null,null,null,null,null,null,null,null,null,null,null,null,null,null,null,null,null,null,null,null,null,null,null,{"$f":"IF(提出用!Z22=\"\",\"\",提出用!Z22)","v":""}]
[]
[null,{"$f":"IF(提出用!B24=\"\",\"\",提出用!B24)","v":""},null,null,null,null,null,null,null,null,null,null,null,null,null,null,null,null,null,null,null,null,null,null,null,{"$f":"IF(提出用!Z24=\"\",\"\",提出用!Z24)","v":""}]
[]
[null,{"$f":"IF(提出用!B26=\"\",\"\",提出用!B26)","v":""},null,null,null,null,null,null,null,null,null,null,null,null,null,null,null,null,null,null,null,null,null,null,null,{"$f":"IF(提出用!Z26=\"\",\"\",提出用!Z26)","v":""}]
[]
[null,{"$f":"IF(提出用!B28=\"\",\"\",提出用!B28)","v":""},null,null,null,null,null,null,null,null,null,null,null,null,null,null,null,null,null,null,null,null,null,null,null,{"$f":"IF(提出用!Z28=\"\",\"\",提出用!Z28)","v":""}]
[]
[null,{"$f":"IF(提出用!B30=\"\",\"\",提出用!B30)","v":""},null,null,null,null,null,null,null,null,null,null,null,null,null,null,null,null,null,null,null,null,null,null,null,{"$f":"IF(提出用!Z30=\"\",\"\",提出用!Z30)","v":""}]
[]
[null,{"$f":"IF(提出用!B32=\"\",\"\",提出用!B32)","v":""},null,null,null,null,null,null,null,null,null,null,null,null,null,null,null,null,null,null,null,null,null,null,null,{"$f":"IF(提出用!Z32=\"\",\"\",提出用!Z32)","v":""}]
[]
[null,{"$f":"IF(提出用!B34=\"\",\"\",提出用!B34)","v":""},null,null,null,null,null,null,null,null,null,null,null,null,null,null,null,null,null,null,null,null,null,null,null,{"$f":"IF(提出用!Z34=\"\",\"\",提出用!Z34)","v":""}]
[]
[null,{"$f":"IF(提出用!B36=\"\",\"\",提出用!B36)","v":""},null,null,null,null,null,null,null,null,null,null,null,null,null,null,null,null,null,null,null,null,null,null,null,{"$f":"IF(提出用!Z36=\"\",\"\",提出用!Z36)","v":""}]
[]
[null,{"$f":"IF(提出用!B38=\"\",\"\",提出用!B38)","v":""},null,null,null,null,null,null,null,null,null,null,null,null,null,null,null,null,null,null,null,null,null,null,null,{"$f":"IF(提出用!Z38=\"\",\"\",提出用!Z38)","v":""}]
[]
[null,{"$f":"IF(提出用!B40=\"\",\"\",提出用!B40)","v":""},null,null,null,null,null,null,null,null,null,null,null,null,null,null,null,null,null,null,null,null,null,null,null,{"$f":"IF(提出用!Z40=\"\",\"\",提出用!Z40)","v":""}]
[]
[null,{"$f":"IF(提出用!B42=\"\",\"\",提出用!B42)","v":""},null,null,null,null,null,null,null,null,null,null,null,null,null,null,null,null,null,null,null,null,null,null,null,{"$f":"IF(提出用!Z42=\"\",\"\",提出用!Z42)","v":""}]
[]
[null,{"$f":"IF(提出用!B44=\"\",\"\",提出用!B44)","v":""},null,null,null,null,null,null,null,null,null,null,null,null,null,null,null,null,null,null,null,null,null,null,null,{"$f":"IF(提出用!Z44=\"\",\"\",提出用!Z44)","v":""}]
[]
[null,{"$f":"IF(提出用!B46=\"\",\"\",提出用!B46)","v":""},null,null,null,null,null,null,null,null,null,null,null,null,null,null,null,null,null,null,null,null,null,null,null,{"$f":"IF(提出用!Z46=\"\",\"\",提出用!Z46)","v":""}]
[]
[null,{"$f":"IF(提出用!B48=\"\",\"\",提出用!B48)","v":""},null,null,null,null,null,null,null,null,null,null,null,null,null,null,null,null,null,null,null,null,null,null,null,{"$f":"IF(提出用!Z48=\"\",\"\",提出用!Z48)","v":""}]