{"text_format":"1","workbook":"xlsx","n_sheets":4,"sheets":["提出用","提出用写","入力用","提出用控"],"not_rendered":{"charts":0,"images":3,"macros":1,"external_links":0,"defined_names":4,"comments":0,"pivot_tables":0},"unopened":[],"bounds":{"document_bytes":16777216,"sheet_cells":100000,"rows_first":2000,"rows_last":500,"rows_between":2000,"halvings":0,"cell_chars":16384,"cell_head_chars":4096},"cells_cut":0,"cells_raw":0,"read":"whole","date_system":"1900"}

{"sheet":"提出用","index":0,"n_rows":147,"n_cols":75,"rows_kept":147,"cut":false,"hidden":false,"merged":[[4,35,5,64],[6,53,6,55],[6,56,6,58],[6,59,6,61],[7,35,8,46],[7,47,8,82],[6,41,6,43],[6,44,6,46],[6,47,6,49],[6,50,6,52],[9,77,10,82],[2,65,3,73],[2,74,3,82],[4,74,5,78],[4,79,5,82],[4,65,5,68],[4,69,5,73],[9,65,10,70],[9,71,10,76],[27,1,28,15],[25,1,26,15],[23,1,24,15],[21,30,21,82],[23,30,23,82],[25,30,25,82],[18,1,19,15],[20,1,20,15],[33,1,34,15],[31,1,32,15],[31,16,32,29],[33,16,34,29],[27,16,28,29],[29,16,30,29],[20,16,22,29],[23,16,24,29],[25,16,26,29],[18,16,19,82],[27,30,27,82],[29,30,29,82],[21,1,22,15],[29,1,30,15],[31,30,31,82],[33,30,33,82],[39,1,40,15],[35,1,36,15],[35,30,35,82],[37,30,37,82],[35,16,36,29],[37,16,38,29],[39,30,39,82],[49,1,50,15],[47,1,48,15],[47,30,47,82],[49,30,49,82],[47,16,48,29],[49,16,50,29],[45,1,46,15],[43,1,44,15],[43,30,43,82],[45,30,45,82],[43,16,44,29],[45,16,46,29],[41,30,41,82],[39,16,40,29],[41,16,42,29],[37,1,38,15],[41,1,42,15],[13,10,16,11],[6,62,6,64],[6,38,6,40],[13,22,16,25],[2,29,11,34],[12,61,13,68],[9,35,10,40],[9,41,10,46],[9,47,10,52],[9,53,10,58],[9,59,10,64],[2,35,3,64],[8,1,9,28],[10,1,10,28],[3,1,3,28],[4,1,7,28],[12,69,14,82],[15,61,16,68],[15,69,17,82],[13,12,16,13],[13,16,16,21],[13,14,16,15]]}
[]
[]
[null,null,null,null,null,null,null,null,null,null,null,null,null,null,null,null,null,null,null,null,null,null,null,null,null,null,null,null,null,"※処理事項",null,null,null,null,null,"事業者コード",null,null,null,null,null,null,null,null,null,null,null,null,null,null,null,null,null,null,null,null,null,null,null,null,null,null,null,null,null,"処理\n区分",null,null,null,null,null,null,null,null,"申告\n区分"]
[null,"　申告者の氏名又は名称"]
[]
[]
[]
[null,null,null,null,null,null,null,null,null,null,null,null,null,null,null,null,null,null,null,null,null,null,null,null,null,null,null,null,null,null,null,null,null,null,null,"予備",null,null,null,null,null,null,null,null,null,null,null,"申告年月日"]
[null,"　個人番号又は法人番号\n　　　　　　↓個人番号の記載に当たっては、左端を空欄とし、ここから記載してください。"]
[null,null,null,null,null,null,null,null,null,null,null,null,null,null,null,null,null,null,null,null,null,null,null,null,null,null,null,null,null,null,null,null,null,null,null,1,null,null,null,null,null,3]
[]
[]
[null,null,null,null,null,null,null,null,null,null,null,null,null,null,null,null,null,null,null,null,null,null,null,null,null,null,null,null,null,null,null,null,null,null,null,null,null,null,null,null,null,null,null,null,null,null,null,null,null,null,null,null,null,null,null,null,null,null,null,null,null,null,null,null,null,null,null,null,null,"枚のうち"]
[null,null,null,null,null,null,null,null,null,null,"令和",null,null,null,"年",null,null,null,null,null,null,null,"月分"]
[]
[null,null,null,null,null,null,null,null,null,null,null,null,null,null,null,null,null,null,null,null,null,null,null,null,null,null,null,null,null,null,null,null,null,null,null,null,null,null,null,null,null,null,null,null,null,null,null,null,null,null,null,null,null,null,null,null,null,null,null,null,null,null,null,null,null,null,null,null,null,"枚目"]
[]
[]
[null,"都道府県名",null,null,null,null,null,null,null,null,null,null,null,null,null,null,"数　　　　　　量"]
[]
[]
[]
[null,null,null,null,null,null,null,null,null,null,null,null,null,null,null,null,null,null,null,null,null,null,null,null,null,null,null,null,null,null,"."]
[]
[]
[]
[null,null,null,null,null,null,null,null,null,null,null,null,null,null,null,null,null,null,null,null,null,null,null,null,null,null,null,null,null,null,4]
[]
[]
[]
[]
[]
[]
[]
[]
[]
[]
[]
[]
[]
[]
[]
[]
[]
[]
[]
[]
[]
[]
[]
[]
[]
[]
[]
[]
[]
[]
[]
[]
[]
[]
[]
[]
[]
[]
[]
[]
[]
[]
[]
[]
[]
[]
[]
[]
[]
[]
[]
[]
[]
[]
[]
[]
[]
[]
[]
[]
[]
[]
[]
[]
[]
[]
[]
[]
[]
[]
[]
[]
[]
[1,"北海道"]
[2,"青森県"]
[3,"岩手県"]
[4,"宮城県"]
[5,"秋田県"]
[6,"山形県"]
[7,"福島県"]
[8,"茨城県"]
[9,"栃木県"]
[10,"群馬県"]
[11,"埼玉県"]
[12,"千葉県"]
[13,"東京都"]
[14,"神奈川県"]
[15,"新潟県"]
[16,"富山県"]
[17,"石川県"]
[18,"福井県"]
[19,"山梨県"]
[20,"長野県"]
[21,"岐阜県"]
[22,"静岡県"]
[23,"愛知県"]
[24,"三重県"]
[25,"滋賀県"]
[26,"京都府"]
[27,"大阪府"]
[28,"兵庫県"]
[29,"奈良県"]
[30,"和歌山県"]
[31,"鳥取県"]
[32,"島根県"]
[33,"岡山県"]
[34,"広島県"]
[35,"山口県"]
[36,"徳島県"]
[37,"香川県"]
[38,"愛媛県"]
[39,"高知県"]
[40,"福岡県"]
[41,"佐賀県"]
[42,"長崎県"]
[43,"熊本県"]
[44,"大分県"]
[45,"宮崎県"]
[46,"鹿児島県"]
[47,"沖縄県"]

{"sheet":"提出用写","index":1,"n_rows":147,"n_cols":75,"rows_kept":147,"cut":false,"hidden":true,"merged":[[3,1,3,28],[4,1,7,28],[4,74,5,78],[4,79,5,82],[6,38,6,40],[6,41,6,43],[6,44,6,46],[9,65,10,70],[9,71,10,76],[9,77,10,82],[2,29,11,34],[2,35,3,64],[2,65,3,73],[2,74,3,82],[6,59,6,61],[6,62,6,64],[7,35,8,46],[7,47,8,82],[6,47,6,49],[6,50,6,52],[6,53,6,55],[6,56,6,58],[4,65,5,68],[4,69,5,73],[49,1,50,15],[21,30,21,82],[23,30,23,82],[25,30,25,82],[27,30,27,82],[29,30,29,82],[31,30,31,82],[33,30,33,82],[45,1,46,15],[47,1,48,15],[41,1,42,15],[43,1,44,15],[37,1,38,15],[39,1,40,15],[33,1,34,15],[35,1,36,15],[29,1,30,15],[31,1,32,15],[25,1,26,15],[27,1,28,15],[23,1,24,15],[47,30,47,82],[49,30,49,82],[23,16,24,27],[47,28,47,29],[49,28,49,29],[49,16,50,27],[23,28,23,29],[25,28,25,29],[27,28,27,29],[29,28,29,29],[31,28,31,29],[33,28,33,29],[35,28,35,29],[37,28,37,29],[37,16,38,27],[39,16,40,27],[41,16,42,27],[43,16,44,27],[45,16,46,27],[47,16,48,27],[25,16,26,27],[27,16,28,27],[29,16,30,27],[31,16,32,27],[33,16,34,27],[35,16,36,27],[39,28,39,29],[41,28,41,29],[43,28,43,29],[18,1,19,15],[18,28,19,29],[18,16,19,27],[41,30,41,82],[43,30,43,82],[45,30,45,82],[45,28,45,29],[35,30,35,82],[37,30,37,82],[39,30,39,82],[20,16,22,27],[18,30,19,82],[21,1,22,15],[20,1,20,15],[21,28,21,29],[4,35,5,64],[13,10,16,11],[13,22,16,25],[8,1,9,28],[10,1,10,28],[12,61,13,68],[12,69,14,82],[15,61,16,68],[15,69,17,82],[13,12,16,13],[13,16,16,21],[13,14,16,15],[9,47,10,52],[9,53,10,58],[9,59,10,64],[9,35,10,40],[9,41,10,46]]}
[]
[]
[null,null,null,null,null,null,null,null,null,null,null,null,null,null,null,null,null,null,null,null,null,null,null,null,null,null,null,null,null,"※処理事項",null,null,null,null,null,"事業者コード",null,null,null,null,null,null,null,null,null,null,null,null,null,null,null,null,null,null,null,null,null,null,null,null,null,null,null,null,null,"処理\n区分",null,null,null,null,null,null,null,null,"申告\n区分"]
[null,"　申告者の氏名又は名称"]
[null,{"$f":"IF(提出用!B5=\"\",\"\",提出用!B5)","v":""},null,null,null,null,null,null,null,null,null,null,null,null,null,null,null,null,null,null,null,null,null,null,null,null,null,null,null,null,null,null,null,null,null,{"$f":"IF(提出用!AJ5=\"\",\"\",提出用!AJ5)","v":""}]
[]
[]
[null,null,null,null,null,null,null,null,null,null,null,null,null,null,null,null,null,null,null,null,null,null,null,null,null,null,null,null,null,null,null,null,null,null,null,"予備",null,null,null,null,null,null,null,null,null,null,null,"申告年月日"]
[null,"　個人番号又は法人番号\n　　　　　　↓個人番号の記載に当たっては、左端を空欄とし、ここから記載してください。"]
[null,null,null,null,null,null,null,null,null,null,null,null,null,null,null,null,null,null,null,null,null,null,null,null,null,null,null,null,null,null,null,null,null,null,null,1,null,null,null,null,null,3]
[null,{"$f":"IF(提出用!B11=\"\",\"\",提出用!B11)","v":""}]
[]
[null,null,null,null,null,null,null,null,null,null,null,null,null,null,null,null,null,null,null,null,null,null,null,null,null,null,null,null,null,null,null,null,null,null,null,null,null,null,null,null,null,null,null,null,null,null,null,null,null,null,null,null,null,null,{"$f":"IF(提出用!BC13=\"\",\"\",提出用!BC13)","v":""},null,null,null,null,null,null,{"$f":"IF(提出用!BJ13=\"\",\"\",提出用!BJ13)","v":""},null,null,null,null,null,null,null,"枚のうち"]
[null,null,null,null,null,null,null,null,null,null,"令和",null,{"$f":"IF(提出用!M14=\"\",\"\",提出用!M14)","v":""},null,"年",null,{"$f":"IF(提出用!Q14=\"\",\"\",提出用!Q14)","v":""},null,null,null,null,null,"月分"]
[]
[null,null,null,null,null,null,null,null,null,null,null,null,null,null,null,null,null,null,null,null,null,null,null,null,null,null,null,null,null,null,null,null,null,null,null,null,null,null,null,null,null,null,null,null,null,null,null,null,null,null,null,null,null,null,{"$f":"IF(提出用!BC16=\"\",\"\",提出用!BC16)","v":""},null,null,null,null,null,null,{"$f":"IF(提出用!BJ16=\"\",\"\",提出用!BJ16)","v":""},null,null,null,null,null,null,null,"枚目"]
[]
[]
[null,"都道府県名",null,null,null,null,null,null,null,null,null,null,null,null,null,null,null,null,null,null,null,null,null,null,null,null,null,null,"都道府県\nコード",null,"数量"]
[]
[]
[null,{"$f":"IF(提出用!B22=\"\",\"\",提出用!B22)","v":""},null,null,null,null,null,null,null,null,null,null,null,null,null,null,null,null,null,null,null,null,null,null,null,null,null,null,{"$f":"IF(ISERROR(VLOOKUP(B22,$A$101:$B$147,2,FALSE)),\"\",VLOOKUP(B22,$A$101:$B$147,2,FALSE))","v":""},null,{"$f":"IF(提出用!AE22=\"\",\"\",提出用!AE22)","v":""}]
[]
[null,{"$f":"IF(提出用!B24=\"\",\"\",提出用!B24)","v":""},null,null,null,null,null,null,null,null,null,null,null,null,null,null,null,null,null,null,null,null,null,null,null,null,null,null,{"$f":"IF(ISERROR(VLOOKUP(B24,$A$101:$B$147,2,FALSE)),\"\",VLOOKUP(B24,$A$101:$B$147,2,FALSE))","v":""},null,{"$f":"IF(提出用!AE24=\"\",\"\",提出用!AE24)","v":""}]
[]
[null,{"$f":"IF(提出用!B26=\"\",\"\",提出用!B26)","v":""},null,null,null,null,null,null,null,null,null,null,null,null,null,null,null,null,null,null,null,null,null,null,null,null,null,null,{"$f":"IF(ISERROR(VLOOKUP(B26,$A$101:$B$147,2,FALSE)),\"\",VLOOKUP(B26,$A$101:$B$147,2,FALSE))","v":""},null,{"$f":"IF(提出用!AE26=\"\",\"\",提出用!AE26)","v":""}]
[]
[null,{"$f":"IF(提出用!B28=\"\",\"\",提出用!B28)","v":""},null,null,null,null,null,null,null,null,null,null,null,null,null,null,null,null,null,null,null,null,null,null,null,null,null,null,{"$f":"IF(ISERROR(VLOOKUP(B28,$A$101:$B$147,2,FALSE)),\"\",VLOOKUP(B28,$A$101:$B$147,2,FALSE))","v":""},null,{"$f":"IF(提出用!AE28=\"\",\"\",提出用!AE28)","v":""}]
[]
[null,{"$f":"IF(提出用!B30=\"\",\"\",提出用!B30)","v":""},null,null,null,null,null,null,null,null,null,null,null,null,null,null,null,null,null,null,null,null,null,null,null,null,null,null,{"$f":"IF(ISERROR(VLOOKUP(B30,$A$101:$B$147,2,FALSE)),\"\",VLOOKUP(B30,$A$101:$B$147,2,FALSE))","v":""},null,{"$f":"IF(提出用!AE30=\"\",\"\",提出用!AE30)","v":""}]
[]
[null,{"$f":"IF(提出用!B32=\"\",\"\",提出用!B32)","v":""},null,null,null,null,null,null,null,null,null,null,null,null,null,null,null,null,null,null,null,null,null,null,null,null,null,null,{"$f":"IF(ISERROR(VLOOKUP(B32,$A$101:$B$147,2,FALSE)),\"\",VLOOKUP(B32,$A$101:$B$147,2,FALSE))","v":""},null,{"$f":"IF(提出用!AE32=\"\",\"\",提出用!AE32)","v":""}]
[]
[null,{"$f":"IF(提出用!B34=\"\",\"\",提出用!B34)","v":""},null,null,null,null,null,null,null,null,null,null,null,null,null,null,null,null,null,null,null,null,null,null,null,null,null,null,{"$f":"IF(ISERROR(VLOOKUP(B34,$A$101:$B$147,2,FALSE)),\"\",VLOOKUP(B34,$A$101:$B$147,2,FALSE))","v":""},null,{"$f":"IF(提出用!AE34=\"\",\"\",提出用!AE34)","v":""}]
[]
[null,{"$f":"IF(提出用!B36=\"\",\"\",提出用!B36)","v":""},null,null,null,null,null,null,null,null,null,null,null,null,null,null,null,null,null,null,null,null,null,null,null,null,null,null,{"$f":"IF(ISERROR(VLOOKUP(B36,$A$101:$B$147,2,FALSE)),\"\",VLOOKUP(B36,$A$101:$B$147,2,FALSE))","v":""},null,{"$f":"IF(提出用!AE36=\"\",\"\",提出用!AE36)","v":""}]
[]
[null,{"$f":"IF(提出用!B38=\"\",\"\",提出用!B38)","v":""},null,null,null,null,null,null,null,null,null,null,null,null,null,null,null,null,null,null,null,null,null,null,null,null,null,null,{"$f":"IF(ISERROR(VLOOKUP(B38,$A$101:$B$147,2,FALSE)),\"\",VLOOKUP(B38,$A$101:$B$147,2,FALSE))","v":""},null,{"$f":"IF(提出用!AE38=\"\",\"\",提出用!AE38)","v":""}]
[]
[null,{"$f":"IF(提出用!B40=\"\",\"\",提出用!B40)","v":""},null,null,null,null,null,null,null,null,null,null,null,null,null,null,null,null,null,null,null,null,null,null,null,null,null,null,{"$f":"IF(ISERROR(VLOOKUP(B40,$A$101:$B$147,2,FALSE)),\"\",VLOOKUP(B40,$A$101:$B$147,2,FALSE))","v":""},null,{"$f":"IF(提出用!AE40=\"\",\"\",提出用!AE40)","v":""}]
[]
[null,{"$f":"IF(提出用!B42=\"\",\"\",提出用!B42)","v":""},null,null,null,null,null,null,null,null,null,null,null,null,null,null,null,null,null,null,null,null,null,null,null,null,null,null,{"$f":"IF(ISERROR(VLOOKUP(B42,$A$101:$B$147,2,FALSE)),\"\",VLOOKUP(B42,$A$101:$B$147,2,FALSE))","v":""},null,{"$f":"IF(提出用!AE42=\"\",\"\",提出用!AE42)","v":""}]
[]
[null,{"$f":"IF(提出用!B44=\"\",\"\",提出用!B44)","v":""},null,null,null,null,null,null,null,null,null,null,null,null,null,null,null,null,null,null,null,null,null,null,null,null,null,null,{"$f":"IF(ISERROR(VLOOKUP(B44,$A$101:$B$147,2,FALSE)),\"\",VLOOKUP(B44,$A$101:$B$147,2,FALSE))","v":""},null,{"$f":"IF(提出用!AE44=\"\",\"\",提出用!AE44)","v":""}]
[]
[null,{"$f":"IF(提出用!B46=\"\",\"\",提出用!B46)","v":""},null,null,null,null,null,null,null,null,null,null,null,null,null,null,null,null,null,null,null,null,null,null,null,null,null,null,{"$f":"IF(ISERROR(VLOOKUP(B46,$A$101:$B$147,2,FALSE)),\"\",VLOOKUP(B46,$A$101:$B$147,2,FALSE))","v":""},null,{"$f":"IF(提出用!AE46=\"\",\"\",提出用!AE46)","v":""}]
[]
[null,{"$f":"IF(提出用!B48=\"\",\"\",提出用!B48)","v":""},null,null,null,null,null,null,null,null,null,null,null,null,null,null,null,null,null,null,null,null,null,null,null,null,null,null,{"$f":"IF(ISERROR(VLOOKUP(B48,$A$101:$B$147,2,FALSE)),\"\",VLOOKUP(B48,$A$101:$B$147,2,FALSE))","v":""},null,{"$f":"IF(提出用!AE48=\"\",\"\",提出用!AE48)","v":""}]
[]
[null,{"$f":"IF(提出用!B50=\"\",\"\",提出用!B50)","v":""},null,null,null,null,null,null,null,null,null,null,null,null,null,null,null,null,null,null,null,null,null,null,null,null,null,null,{"$f":"IF(ISERROR(VLOOKUP(B50,$A$101:$B$147,2,FALSE)),\"\",VLOOKUP(B50,$A$101:$B$147,2,FALSE))","v":""},null,{"$f":"IF(提出用!AE50=\"\",\"\",提出用!AE50)","v":""}]
[]
[]
[]
[]
[]
[]
[]
[]
[]
[]
[]
[]
[]
[]
[]
[]
[]
[]
[]
[]
[]
[]
[]
[]
[]
[]
[]
[]
[]
[]
[]
[]
[]
[]
[]
[]
[]
[]
[]
[]
[]
[]
[]
[]
[]
[]
[]
[]
[]
[]
["北海道",1]
["青森県",2]
["岩手県",3]
["宮城県",4]
["秋田県",5]
["山形県",6]
["福島県",7]
["茨城県",8]
["栃木県",9]
["群馬県",10]
["埼玉県",11]
["千葉県",12]
["東京都",13]
["神奈川県",14]
["新潟県",15]
["富山県",16]
["石川県",17]
["福井県",18]
["山梨県",19]
["長野県",20]
["岐阜県",21]
["静岡県",22]
["愛知県",23]
["三重県",24]
["滋賀県",25]
["京都府",26]
["大阪府",27]
["兵庫県",28]
["奈良県",29]
["和歌山県",30]
["鳥取県",31]
["島根県",32]
["岡山県",33]
["広島県",34]
["山口県",35]
["徳島県",36]
["香川県",37]
["愛媛県",38]
["高知県",39]
["福岡県",40]
["佐賀県",41]
["長崎県",42]
["熊本県",43]
["大分県",44]
["宮崎県",45]
["鹿児島県",46]
["沖縄県",47]

{"sheet":"入力用","index":2,"n_rows":50,"n_cols":75,"rows_kept":50,"cut":false,"hidden":false,"merged":[[2,65,3,73],[2,74,3,82],[2,35,3,64],[4,35,5,64],[15,62,16,69],[6,62,6,64],[4,74,5,78],[4,79,5,82],[4,65,5,68],[4,69,5,73],[9,65,10,70],[9,71,10,76],[9,77,10,82],[23,1,24,2],[27,1,28,2],[25,1,26,2],[27,28,27,29],[25,28,25,29],[23,28,23,29],[31,1,32,2],[29,1,30,2],[35,1,36,2],[33,1,34,2],[29,28,29,29],[31,28,31,29],[33,28,33,29],[49,1,50,2],[49,28,49,29],[47,1,48,2],[45,1,46,2],[16,1,18,2],[35,28,35,29],[37,28,37,29],[39,28,39,29],[41,28,41,29],[43,28,43,29],[45,28,45,29],[47,28,47,29],[39,1,40,2],[37,1,38,2],[43,1,44,2],[41,1,42,2],[23,30,23,82],[25,30,25,82],[6,38,6,40],[6,41,6,43],[6,44,6,46],[6,47,6,49],[6,50,6,52],[6,53,6,55],[6,56,6,58],[6,59,6,61],[9,35,10,40],[9,41,10,46],[9,47,10,52],[9,53,10,58],[9,59,10,64],[7,19,7,82],[9,30,11,34],[12,62,13,69],[18,62,18,69],[21,1,22,2],[19,1,20,2],[21,3,22,27],[21,28,21,29],[21,30,21,82],[13,12,16,13],[13,16,16,21],[13,14,16,15],[13,10,16,11],[12,22,16,61],[8,12,12,18],[45,30,45,82],[47,30,47,82],[49,30,49,82],[27,30,27,82],[29,30,29,82],[31,30,31,82],[33,30,33,82],[35,30,35,82],[37,30,37,82],[39,30,39,82],[41,30,41,82],[43,30,43,82]]}
[]
[]
[null,null,null,null,null,null,null,null,null,null,null,null,null,null,null,null,null,null,null,null,null,null,null,null,null,null,null,null,null,null,null,null,null,null,null,"事業者コード",null,null,null,null,null,null,null,null,null,null,null,null,null,null,null,null,null,null,null,null,null,null,null,null,null,null,null,null,null,"処理\n区分",null,null,null,null,null,null,null,null,"申告\n区分"]
[]
[null,null,null,null,null,null,null,null,null,null,null,null,null,null,null,null,null,null,null,null,null,null,null,null,null,null,null,null,null,null,null,null,null,null,null,{"$f":"IF(提出用!AJ5=\"\",\"\",提出用!AJ5)","v":""}]
[]
[]
[]
[]
[null,null,null,null,null,null,null,null,null,null,null,null,null,null,null,null,null,null,null,null,null,null,null,null,null,null,null,null,null,null,"キ",null,null,null,null,1,null,null,null,null,null,3]
[]
[]
[null,null,null,null,null,null,null,null,null,null,null,null,null,null,null,null,null,null,null,null,null,null,null,null,null,null,null,null,null,null,null,null,null,null,null,null,null,null,null,null,null,null,null,null,null,null,null,null,null,null,null,null,null,null,null,null,null,null,null,null,null,null,{"$f":"IF(提出用!BJ13=\"\",\"\",提出用!BJ13)","v":""}]
[null,null,null,null,null,null,null,null,null,null,null,null,{"$f":"IF(提出用!M14=\"\",\"\",提出用!M14)","v":""},null,null,null,{"$f":"IF(提出用!Q14=\"\",\"\",提出用!Q14)","v":""}]
[]
[null,null,null,null,null,null,null,null,null,null,null,null,null,null,null,null,null,null,null,null,null,null,null,null,null,null,null,null,null,null,null,null,null,null,null,null,null,null,null,null,null,null,null,null,null,null,null,null,null,null,null,null,null,null,null,null,null,null,null,null,null,null,{"$f":"IF(提出用!BJ16=\"\",\"\",提出用!BJ16)","v":""}]
[null,"ク"]
[]
[]
[]
[]
[null,"01",null,null,null,null,null,null,null,null,null,null,null,null,null,null,null,null,null,null,null,null,null,null,null,null,null,null,{"$f":"IF(提出用写!AC22=\"\",\"\",提出用写!AC22)","v":""},null,{"$f":"IF(提出用!AE22=\"\",\"\",提出用!AE22)","v":""}]
[]
[null,"02",null,null,null,null,null,null,null,null,null,null,null,null,null,null,null,null,null,null,null,null,null,null,null,null,null,null,{"$f":"IF(提出用写!AC24=\"\",\"\",提出用写!AC24)","v":""},null,{"$f":"IF(提出用!AE24=\"\",\"\",提出用!AE24)","v":""}]
[]
[null,"03",null,null,null,null,null,null,null,null,null,null,null,null,null,null,null,null,null,null,null,null,null,null,null,null,null,null,{"$f":"IF(提出用写!AC26=\"\",\"\",提出用写!AC26)","v":""},null,{"$f":"IF(提出用!AE26=\"\",\"\",提出用!AE26)","v":""}]
[]
[null,"04",null,null,null,null,null,null,null,null,null,null,null,null,null,null,null,null,null,null,null,null,null,null,null,null,null,null,{"$f":"IF(提出用写!AC28=\"\",\"\",提出用写!AC28)","v":""},null,{"$f":"IF(提出用!AE28=\"\",\"\",提出用!AE28)","v":""}]
[]
[null,"05",null,null,null,null,null,null,null,null,null,null,null,null,null,null,null,null,null,null,null,null,null,null,null,null,null,null,{"$f":"IF(提出用写!AC30=\"\",\"\",提出用写!AC30)","v":""},null,{"$f":"IF(提出用!AE30=\"\",\"\",提出用!AE30)","v":""}]
[]
[null,"06",null,null,null,null,null,null,null,null,null,null,null,null,null,null,null,null,null,null,null,null,null,null,null,null,null,null,{"$f":"IF(提出用写!AC32=\"\",\"\",提出用写!AC32)","v":""},null,{"$f":"IF(提出用!AE32=\"\",\"\",提出用!AE32)","v":""}]
[]
[null,"07",null,null,null,null,null,null,null,null,null,null,null,null,null,null,null,null,null,null,null,null,null,null,null,null,null,null,{"$f":"IF(提出用写!AC34=\"\",\"\",提出用写!AC34)","v":""},null,{"$f":"IF(提出用!AE34=\"\",\"\",提出用!AE34)","v":""}]
[]
[null,"08",null,null,null,null,null,null,null,null,null,null,null,null,null,null,null,null,null,null,null,null,null,null,null,null,null,null,{"$f":"IF(提出用写!AC36=\"\",\"\",提出用写!AC36)","v":""},null,{"$f":"IF(提出用!AE36=\"\",\"\",提出用!AE36)","v":""}]
[]
[null,"09",null,null,null,null,null,null,null,null,null,null,null,null,null,null,null,null,null,null,null,null,null,null,null,null,null,null,{"$f":"IF(提出用写!AC38=\"\",\"\",提出用写!AC38)","v":""},null,{"$f":"IF(提出用!AE38=\"\",\"\",提出用!AE38)","v":""}]
[]
[null,"10",null,null,null,null,null,null,null,null,null,null,null,null,null,null,null,null,null,null,null,null,null,null,null,null,null,null,{"$f":"IF(提出用写!AC40=\"\",\"\",提出用写!AC40)","v":""},null,{"$f":"IF(提出用!AE40=\"\",\"\",提出用!AE40)","v":""}]
[]
[null,"11",null,null,null,null,null,null,null,null,null,null,null,null,null,null,null,null,null,null,null,null,null,null,null,null,null,null,{"$f":"IF(提出用写!AC42=\"\",\"\",提出用写!AC42)","v":""},null,{"$f":"IF(提出用!AE42=\"\",\"\",提出用!AE42)","v":""}]
[]
[null,"12",null,null,null,null,null,null,null,null,null,null,null,null,null,null,null,null,null,null,null,null,null,null,null,null,null,null,{"$f":"IF(提出用写!AC44=\"\",\"\",提出用写!AC44)","v":""},null,{"$f":"IF(提出用!AE44=\"\",\"\",提出用!AE44)","v":""}]
[]
[null,"13",null,null,null,null,null,null,null,null,null,null,null,null,null,null,null,null,null,null,null,null,null,null,null,null,null,null,{"$f":"IF(提出用写!AC46=\"\",\"\",提出用写!AC46)","v":""},null,{"$f":"IF(提出用!AE46=\"\",\"\",提出用!AE46)","v":""}]
[]
[null,"14",null,null,null,null,null,null,null,null,null,null,null,null,null,null,null,null,null,null,null,null,null,null,null,null,null,null,{"$f":"IF(提出用写!AC48=\"\",\"\",提出用写!AC48)","v":""},null,{"$f":"IF(提出用!AE48=\"\",\"\",提出用!AE48)","v":""}]
[]
[null,"15",null,null,null,null,null,null,null,null,null,null,null,null,null,null,null,null,null,null,null,null,null,null,null,null,null,null,{"$f":"IF(提出用写!AC50=\"\",\"\",提出用写!AC50)","v":""},null,{"$f":"IF(提出用!AE50=\"\",\"\",提出用!AE50)","v":""}]

{"sheet":"提出用控","index":3,"n_rows":50,"n_cols":75,"rows_kept":50,"cut":false,"hidden":false,"merged":[[4,65,5,69],[4,70,5,73],[3,1,3,28],[4,1,7,28],[2,74,3,82],[4,74,5,78],[4,79,5,82],[4,35,5,64],[6,62,6,64],[2,29,11,34],[2,35,3,64],[6,53,6,55],[6,56,6,58],[6,59,6,61],[6,38,6,40],[6,41,6,43],[6,44,6,46],[6,47,6,49],[6,50,6,52],[7,35,8,46],[7,47,8,82],[2,65,3,73],[15,69,17,82],[27,16,28,29],[29,16,30,29],[27,30,27,82],[29,30,29,82],[23,30,23,82],[25,30,25,82],[20,16,22,29],[23,16,24,29],[25,16,26,29],[9,65,10,70],[9,71,10,76],[9,77,10,82],[21,30,21,82],[13,22,16,25],[29,1,30,15],[27,1,28,15],[25,1,26,15],[23,1,24,15],[18,1,19,15],[21,1,22,15],[20,1,20,15],[33,1,34,15],[31,1,32,15],[31,16,32,29],[33,16,34,29],[31,30,31,82],[33,30,33,82],[35,1,36,15],[35,30,35,82],[37,30,37,82],[35,16,36,29],[37,16,38,29],[39,30,39,82],[41,30,41,82],[39,16,40,29],[41,16,42,29],[37,1,38,15],[41,1,42,15],[39,1,40,15],[49,1,50,15],[47,1,48,15],[47,30,47,82],[49,30,49,82],[47,16,48,29],[49,16,50,29],[45,1,46,15],[43,1,44,15],[43,30,43,82],[45,30,45,82],[43,16,44,29],[45,16,46,29],[13,10,16,11],[8,1,9,28],[10,1,10,28],[18,16,19,82],[12,61,13,68],[12,69,14,82],[15,61,16,68],[13,12,16,13],[13,16,16,21],[13,14,16,15],[9,35,10,40],[9,41,10,46],[9,47,10,52],[9,53,10,58],[9,59,10,64]]}
[]
[]
[null,null,null,null,null,null,null,null,null,null,null,null,null,null,null,null,null,null,null,null,null,null,null,null,null,null,null,null,null,"※処理事項",null,null,null,null,null,"事業者コード",null,null,null,null,null,null,null,null,null,null,null,null,null,null,null,null,null,null,null,null,null,null,null,null,null,null,null,null,null,"処理\n区分",null,null,null,null,null,null,null,null,"申告\n区分"]
[null,"　申告者の氏名又は名称"]
[null,{"$f":"IF(提出用!B5=\"\",\"\",提出用!B5)","v":""},null,null,null,null,null,null,null,null,null,null,null,null,null,null,null,null,null,null,null,null,null,null,null,null,null,null,null,null,null,null,null,null,null,{"$f":"IF(提出用!AJ5=\"\",\"\",提出用!AJ5)","v":""}]
[]
[]
[null,null,null,null,null,null,null,null,null,null,null,null,null,null,null,null,null,null,null,null,null,null,null,null,null,null,null,null,null,null,null,null,null,null,null,"予備",null,null,null,null,null,null,null,null,null,null,null,"申告年月日"]
[null,"　個人番号又は法人番号\n　　　　　　↓個人番号の記載に当たっては、左端を空欄とし、ここから記載してください。"]
[null,null,null,null,null,null,null,null,null,null,null,null,null,null,null,null,null,null,null,null,null,null,null,null,null,null,null,null,null,null,null,null,null,null,null,1,null,null,null,null,null,3]
[null,{"$f":"IF(提出用!B11=\"\",\"\",提出用!B11)","v":""}]
[]
[null,null,null,null,null,null,null,null,null,null,null,null,null,null,null,null,null,null,null,null,null,null,null,null,null,null,null,null,null,null,null,null,null,null,null,null,null,null,null,null,null,null,null,null,null,null,null,null,null,null,null,null,null,null,{"$f":"IF(提出用!BC13=\"\",\"\",提出用!BC13)","v":""},null,null,null,null,null,null,{"$f":"IF(提出用!BJ13=\"\",\"\",提出用!BJ13)","v":""},null,null,null,null,null,null,null,"枚のうち"]
[null,null,null,null,null,null,null,null,null,null,"令和",null,{"$f":"IF(提出用!M14=\"\",\"\",提出用!M14)","v":""},null,"年",null,{"$f":"IF(提出用!Q14=\"\",\"\",提出用!Q14)","v":""},null,null,null,null,null,"月分"]
[]
[null,null,null,null,null,null,null,null,null,null,null,null,null,null,null,null,null,null,null,null,null,null,null,null,null,null,null,null,null,null,null,null,null,null,null,null,null,null,null,null,null,null,null,null,null,null,null,null,null,null,null,null,null,null,{"$f":"IF(提出用!BC16=\"\",\"\",提出用!BC16)","v":""},null,null,null,null,null,null,{"$f":"IF(提出用!BJ16=\"\",\"\",提出用!BJ16)","v":""},null,null,null,null,null,null,null,"枚目"]
[]
[]
[null,"都道府県名",null,null,null,null,null,null,null,null,null,null,null,null,null,null,"数　　　　　　量"]
[]
[]
[null,{"$f":"IF(提出用!B22=\"\",\"\",提出用!B22)","v":""},null,null,null,null,null,null,null,null,null,null,null,null,null,null,null,null,null,null,null,null,null,null,null,null,null,null,null,null,{"$f":"IF(提出用!AE22=\"\",\"\",提出用!AE22)","v":""}]
[]
[null,{"$f":"IF(提出用!B24=\"\",\"\",提出用!B24)","v":""},null,null,null,null,null,null,null,null,null,null,null,null,null,null,null,null,null,null,null,null,null,null,null,null,null,null,null,null,{"$f":"IF(提出用!AE24=\"\",\"\",提出用!AE24)","v":""}]
[]
[null,{"$f":"IF(提出用!B26=\"\",\"\",提出用!B26)","v":""},null,null,null,null,null,null,null,null,null,null,null,null,null,null,null,null,null,null,null,null,null,null,null,null,null,null,null,null,{"$f":"IF(提出用!AE26=\"\",\"\",提出用!AE26)","v":""}]
[]
[null,{"$f":"IF(提出用!B28=\"\",\"\",提出用!B28)","v":""},null,null,null,null,null,null,null,null,null,null,null,null,null,null,null,null,null,null,null,null,null,null,null,null,null,null,null,null,{"$f":"IF(提出用!AE28=\"\",\"\",提出用!AE28)","v":""}]
[]
[null,{"$f":"IF(提出用!B30=\"\",\"\",提出用!B30)","v":""},null,null,null,null,null,null,null,null,null,null,null,null,null,null,null,null,null,null,null,null,null,null,null,null,null,null,null,null,{"$f":"IF(提出用!AE30=\"\",\"\",提出用!AE30)","v":""}]
[]
[null,{"$f":"IF(提出用!B32=\"\",\"\",提出用!B32)","v":""},null,null,null,null,null,null,null,null,null,null,null,null,null,null,null,null,null,null,null,null,null,null,null,null,null,null,null,null,{"$f":"IF(提出用!AE32=\"\",\"\",提出用!AE32)","v":""}]
[]
[null,{"$f":"IF(提出用!B34=\"\",\"\",提出用!B34)","v":""},null,null,null,null,null,null,null,null,null,null,null,null,null,null,null,null,null,null,null,null,null,null,null,null,null,null,null,null,{"$f":"IF(提出用!AE34=\"\",\"\",提出用!AE34)","v":""}]
[]
[null,{"$f":"IF(提出用!B36=\"\",\"\",提出用!B36)","v":""},null,null,null,null,null,null,null,null,null,null,null,null,null,null,null,null,null,null,null,null,null,null,null,null,null,null,null,null,{"$f":"IF(提出用!AE36=\"\",\"\",提出用!AE36)","v":""}]
[]
[null,{"$f":"IF(提出用!B38=\"\",\"\",提出用!B38)","v":""},null,null,null,null,null,null,null,null,null,null,null,null,null,null,null,null,null,null,null,null,null,null,null,null,null,null,null,null,{"$f":"IF(提出用!AE38=\"\",\"\",提出用!AE38)","v":""}]
[]
[null,{"$f":"IF(提出用!B40=\"\",\"\",提出用!B40)","v":""},null,null,null,null,null,null,null,null,null,null,null,null,null,null,null,null,null,null,null,null,null,null,null,null,null,null,null,null,{"$f":"IF(提出用!AE40=\"\",\"\",提出用!AE40)","v":""}]
[]
[null,{"$f":"IF(提出用!B42=\"\",\"\",提出用!B42)","v":""},null,null,null,null,null,null,null,null,null,null,null,null,null,null,null,null,null,null,null,null,null,null,null,null,null,null,null,null,{"$f":"IF(提出用!AE42=\"\",\"\",提出用!AE42)","v":""}]
[]
[null,{"$f":"IF(提出用!B44=\"\",\"\",提出用!B44)","v":""},null,null,null,null,null,null,null,null,null,null,null,null,null,null,null,null,null,null,null,null,null,null,null,null,null,null,null,null,{"$f":"IF(提出用!AE44=\"\",\"\",提出用!AE44)","v":""}]
[]
[null,{"$f":"IF(提出用!B46=\"\",\"\",提出用!B46)","v":""},null,null,null,null,null,null,null,null,null,null,null,null,null,null,null,null,null,null,null,null,null,null,null,null,null,null,null,null,{"$f":"IF(提出用!AE46=\"\",\"\",提出用!AE46)","v":""}]
[]
[null,{"$f":"IF(提出用!B48=\"\",\"\",提出用!B48)","v":""},null,null,null,null,null,null,null,null,null,null,null,null,null,null,null,null,null,null,null,null,null,null,null,null,null,null,null,null,{"$f":"IF(提出用!AE48=\"\",\"\",提出用!AE48)","v":""}]
[]
[null,{"$f":"IF(提出用!B50=\"\",\"\",提出用!B50)","v":""},null,null,null,null,null,null,null,null,null,null,null,null,null,null,null,null,null,null,null,null,null,null,null,null,null,null,null,null,{"$f":"IF(提出用!AE50=\"\",\"\",提出用!AE50)","v":""}]